BEGIN:VCALENDAR
VERSION:2.0
PRODID:-//Gminne Centrum Kultury w Gródku - ECPv4.9.5//NONSGML v1.0//EN
CALSCALE:GREGORIAN
METHOD:PUBLISH
X-WR-CALNAME:Gminne Centrum Kultury w Gródku
X-ORIGINAL-URL:https://gckgrodek.pl
X-WR-CALDESC:Events for Gminne Centrum Kultury w Gródku
BEGIN:VTIMEZONE
TZID:"Europe/Warsaw"
BEGIN:DAYLIGHT
TZOFFSETFROM:+0100
TZOFFSETTO:+0200
TZNAME:CEST
DTSTART:20180325T010000
END:DAYLIGHT
BEGIN:STANDARD
TZOFFSETFROM:+0200
TZOFFSETTO:+0100
TZNAME:CET
DTSTART:20181028T010000
END:STANDARD
END:VTIMEZONE
BEGIN:VEVENT
DTSTART;TZID="Europe/Warsaw":20180807T180000
DTEND;TZID="Europe/Warsaw":20180807T233000
DTSTAMP:20260420T020934
CREATED:20180731T120754Z
LAST-MODIFIED:20180731T120916Z
UID:10067-1533664800-1533684600@gckgrodek.pl
SUMMARY:ZABAWA NA ANNĘ W KRÓLOWYM MOŚCIE
DESCRIPTION:Zapraszamy na drugą imprezę z cyklu letnich zabaw przy muzyce białoruskiej w gminie Gródek: Zabawa na Annę w Królowym Moście\, która odbędzie się 7 sierpnia (wtorek)\, godz. 18.00 na boisku w Królowym Moście \nPo raz kolejny dzięki współpracy z sołectwami: Królowy Most i Kołodno zawitamy do Królowego Mostu. \n– występy zespołów działających przy GCK;\n– koncert zespołu Prymaki\n– gościnne koncerty: KAŁASKI (PL)\, UŁADARY (BY) \noraz\npyszna strawa od Basiafoodtruck i zimne napoje od Bar “Promyk” 🙂 \nZrealizowano dzięki dotacji Ministra Spraw Wewnętrznych i Administracji. \n
URL:https://gckgrodek.pl/wydarzenie/zabawa-na-anne-w-krolowym-moscie/
LOCATION:Królowy Most\, Królowy Most\, Gródek\, 16-040
CATEGORIES:Imprezy plenerowe
ATTACH;FMTTYPE=image/jpeg:https://gckgrodek.pl/wp-content/uploads/2018/07/plakat_krolowy_18_aktual.jpg
END:VEVENT
END:VCALENDAR