BEGIN:VCALENDAR
VERSION:2.0
PRODID:-//Gminne Centrum Kultury w Gródku - ECPv4.9.5//NONSGML v1.0//EN
CALSCALE:GREGORIAN
METHOD:PUBLISH
X-WR-CALNAME:Gminne Centrum Kultury w Gródku
X-ORIGINAL-URL:https://gckgrodek.pl
X-WR-CALDESC:Events for Gminne Centrum Kultury w Gródku
BEGIN:VTIMEZONE
TZID:"Europe/Warsaw"
BEGIN:DAYLIGHT
TZOFFSETFROM:+0100
TZOFFSETTO:+0200
TZNAME:CEST
DTSTART:20230326T010000
END:DAYLIGHT
BEGIN:STANDARD
TZOFFSETFROM:+0200
TZOFFSETTO:+0100
TZNAME:CET
DTSTART:20231029T010000
END:STANDARD
END:VTIMEZONE
BEGIN:VEVENT
DTSTART;TZID="Europe/Warsaw":20230729T170000
DTEND;TZID="Europe/Warsaw":20230730T000000
DTSTAMP:20260420T124651
CREATED:20230710T094205Z
LAST-MODIFIED:20230717T125515Z
UID:16920-1690650000-1690675200@gckgrodek.pl
SUMMARY:XXIII MIĘDZYNARODOWY FESTIWAL SIABROUSKAJA BIASIEDA
DESCRIPTION:Siabrouskaja Biasieda\, czyli przyjacielskie biesiadowanie w Gródku \nXXIII Międzynarodowy Festiwal Siabrouskaja Biasieda – 29 lipca 2023\,  \namfiteatr nad zalewem w Zarzeczanach \nFestiwal Siabrouskaja Biasieda to jedna z ważniejszych imprez kulturalnych prezentująca dorobek kulturowy regionu i twórczość ludową z głównym naciskiem na kulturę mniejszości białoruskiej.  \n„Po raz kolejny zapraszamy Państwa na wspólne biesiadowanie do gminy Gródek. Siabrouskaja Biasieda to wyjątkowe wydarzenia na terenie naszego województwa. Śpiew\, muzyka\, taniec oraz rodzinna atmosfera\, to wszystko już 29 lipca nad zad zalewem w Zarzeczanach w gminie Gródek ” – mówi Magdalena Łotysz\, Dyrektor Gminnego Centrum Kultury w Gródku. \nFestiwal ma charakter koncertu połączonego ze wspólną zabawą\, w której uczestniczą wykonawcy i publiczność. Nawiązuje do tradycyjnego\, zakorzenionego w kulturze słowiańskiej\, przyjacielskiego spotkania\, na którym nie może zabraknąć muzyki\, śpiewu i tańca. W tym roku podczas festiwalu wystąpią zespoły ludowe z gminy Gródek oraz goście: Harika&Narwa\, Dawid Szymczuk Band\, Souvenir\, AS\, Zołoto\, Kalinka\, Laliland\, Weronika Ptaszyńska & Lamia\, Exit\, Czerwone Szpilki\, Siostry Ostapczuk oraz zespół Server Dance. Swoje umiejętności taneczne zaprezentują członkowie zespołu prowadzonego przez Stowarzyszenie AB-BA „Podlaski Wianek” z Białegostoku. Ciekawym akcentem będzie również występ zespołu “Podsybka Kurpiowska” z Łęgu Przedmiejskiego\, który z powodzeniem kultywuje tradycje\, zwyczaje i muzykę Kurpiowszczyzny. \nOrganizatorzy przygotowali również dla uczestników dwa konkursy z nagrodami. Konkurs na najsmaczniejszy chleb – uczestnicy konkursu zmierzą się z tradycyjnym domowym wypiekiem chleba\, który jest podstawą w naszej kuchni. Wszystkie przyniesione chleby będą po rozstrzygnięciu poczęstunkiem dla publiczności. Kolejny konkurs jest skierowany dla najmłodszych w którym uczestnicy muszą nagrać swój występ z piosenką lub wierszykiem. Przygotowane nagrania będą musiały być wysłane do organizatora kilka dni przed Festiwalem\, podczas którego zaprezentujemy na telebimie zwycięzców pierwszych trzech miejsc. Piosenki lub wierszyki muszą zawierać komponenty folklorystyczne. \nPodczas biesiady uczestnicy będą mieli możliwość skorzystania ze stoisk twórców ludowych i rękodzielników. Podobnie\, swoje lokalne wytwory zaprezentują stowarzyszenia i koła gospodyń działające na terenie gminy Gródek. Wzorem ostatniego festiwalu\, ponownie zostanie zorganizowana specjalna strefa kocykowa\, która służyć będzie do swobodnego biesiadowania z własnym koszyczkiem i kocykiem. \nNa Festiwal będzie można dojechać pociągiem specjalnym POLREGIO z Białegostoku. 29 lipca o godz. 18.20 wyruszy do Walił pociąg o nazwie „Biesiada”. Powrót następnego dnia\, 30 lipca o godz. 0.40. \nCałość zadania\, wzorem dwóch ubiegłych lat będzie promowana w innowacyjny sposób. Naszą gminę odwiedził Arkadiusz Andrejkow – artysta z Sanoka\, który specjalizuje się w malowaniu deskali – czyli obrazów na stodołach\, wzorowanych na starych zdjęciach. W tym roku wykonał deskal na stodole we wsi Zubry oraz mural na przystanku autobusowym w Gródku. \nMiędzynarodowy Festiwal „Siabrouskaja Biasieda” również będzie można obejrzeć na żywo (online) z każdego zakątku Polski i świata poprzez kanał YouTube Gminnego Centrum Kultury. \n  \nZrealizowano dzięki dotacji Ministra Spraw Wewnętrznych i Administracji.\nZadanie dofinansowane ze środków Powiatu Białostockiego.\n\nOrganizatorzy:\nGminne Centrum Kultury w Gródku\, Gmina Gródek;\nPatronat medialny:\nPolskie Radio Białystok\, Radio Jard\, TVP 3 Białystok\, Radio Racja\, Wiadomości Gródeckie – Haradockija Nawiny;\nSponsorzy:\nFal-Poż s. c.\, Nadleśnictwo Waliły\, Casablanca Catering\, Marka Żubr\, Bank Spółdzielczy w Białymstoku\, Sklep przemysłowy Rafał Kardasz\, PPH “Wenus” Marek Klebus\n\n  \nWydarzenie na facebook’u: https://www.facebook.com/events/520948756920213 \nStrona www: https://gckgrodek.pl/wydarzenie/xxiii-miedzynarodowy-festiwal-siabrouskaja-biasieda/ \nDojazd: https://goo.gl/maps/gCD8bNETCxQxfJSY8 \n  \n \n \nREGULAMINY I ZGODY RODO: \nKONKURS NA NAJSMACZNIEJSZY SWOJSKI CHLEB (303 KB\, PDF)  \nKONKURS NA FOLKOWĄ PIOSENKĘ/WIERSZYK (308 KB\, PDF) \n  \nMedia: \nRadosław Kulesza \ninstr. ds. informatycznych i promocji \nrkulesza(at)gckgrodek.pl \nT:  + 48 791 037 601 \n
URL:https://gckgrodek.pl/wydarzenie/xxiii-miedzynarodowy-festiwal-siabrouskaja-biasieda/
LOCATION:Amfiteatr nad zalewem w Zarzeczanach\, Zarzeczany\, Gródek\, Podlaskie\, 16-040\, Polska
CATEGORIES:Imprezy plenerowe
ATTACH;FMTTYPE=image/jpeg:https://gckgrodek.pl/wp-content/uploads/2023/07/343078289_597799455617016_4282936131023739707_n.jpg
END:VEVENT
END:VCALENDAR