BEGIN:VCALENDAR
VERSION:2.0
PRODID:-//Gminne Centrum Kultury w Gródku - ECPv4.9.5//NONSGML v1.0//EN
CALSCALE:GREGORIAN
METHOD:PUBLISH
X-WR-CALNAME:Gminne Centrum Kultury w Gródku
X-ORIGINAL-URL:https://gckgrodek.pl
X-WR-CALDESC:Events for Gminne Centrum Kultury w Gródku
BEGIN:VTIMEZONE
TZID:"Europe/Warsaw"
BEGIN:DAYLIGHT
TZOFFSETFROM:+0100
TZOFFSETTO:+0200
TZNAME:CEST
DTSTART:20190331T010000
END:DAYLIGHT
BEGIN:STANDARD
TZOFFSETFROM:+0200
TZOFFSETTO:+0100
TZNAME:CET
DTSTART:20191027T010000
END:STANDARD
END:VTIMEZONE
BEGIN:VEVENT
DTSTART;TZID="Europe/Warsaw":20190330T170000
DTEND;TZID="Europe/Warsaw":20190330T183000
DTSTAMP:20260422T100732
CREATED:20190314T111502Z
LAST-MODIFIED:20190314T111503Z
UID:12004-1553965200-1553970600@gckgrodek.pl
SUMMARY:WYSTAWA PRL W GRÓDKU
DESCRIPTION:Gminne Centrum Kultury przygotowuje wystawę „PRL w Gródku”. Ciągle jeszcze gromadzimy i przyjmujemy eksponaty na wystawę – przedmioty\, zabawki\, ubrania\, czasopisma\, zdjęcia itp. Wernisaż został zaplanowany na 30 marca 2019 r. godz. 17.00. Rezerwujcie Państwo sobotni wieczór na spotkanie z gródeckim PRL-em. Będą przysmaki z tego okresu serwowane przez barmankę\, wyświetlanie bajek ze starego projektora\, robienie stylizowanych zdjęć\, słynne tabliczki z różnych zakładów pracy w Gródku\, maszyna do liczenia z SKR-u\, urządzony pokój w stylu tamtych lat… Przyjdźcie na wernisaż w PRL-owskich strojach (na pewno w szafach dziadków i rodziców znajdziecie to i owo). \nKoordynatorem wystawy jest Dorota Sulżyk. \nWstęp wolny. \n
URL:https://gckgrodek.pl/wydarzenie/wystawa-prl-w-grodku/
LOCATION:Gminne Centrum Kultury Gródku\, ul. A. i G. Chodkiewiczów 4\, Gródek\, 16-040
CATEGORIES:Wystawy
ATTACH;FMTTYPE=image/jpeg:https://gckgrodek.pl/wp-content/uploads/2019/03/prlwgrodku.jpg
ORGANIZER;CN="Gminne%20Centrum%20Kultury%20w%20Gr%C3%B3dku":MAILTO:biuro@gckgrodek.pl
END:VEVENT
END:VCALENDAR