BEGIN:VCALENDAR
VERSION:2.0
PRODID:-//Gminne Centrum Kultury w Gródku - ECPv4.9.5//NONSGML v1.0//EN
CALSCALE:GREGORIAN
METHOD:PUBLISH
X-WR-CALNAME:Gminne Centrum Kultury w Gródku
X-ORIGINAL-URL:https://gckgrodek.pl
X-WR-CALDESC:Events for Gminne Centrum Kultury w Gródku
BEGIN:VTIMEZONE
TZID:"Europe/Warsaw"
BEGIN:DAYLIGHT
TZOFFSETFROM:+0100
TZOFFSETTO:+0200
TZNAME:CEST
DTSTART:20190331T010000
END:DAYLIGHT
BEGIN:STANDARD
TZOFFSETFROM:+0200
TZOFFSETTO:+0100
TZNAME:CET
DTSTART:20191027T010000
END:STANDARD
END:VTIMEZONE
BEGIN:VEVENT
DTSTART;TZID="Europe/Warsaw":20191127T080000
DTEND;TZID="Europe/Warsaw":20191220T170000
DTSTAMP:20260420T171541
CREATED:20191126T223457Z
LAST-MODIFIED:20191126T225004Z
UID:14119-1574841600-1576861200@gckgrodek.pl
SUMMARY:Wydarzenie testowe
DESCRIPTION:test \n
URL:https://gckgrodek.pl/wydarzenie/wydarzenie-testowe/
LOCATION:Gminne Centrum Kultury Gródku\, ul. A. i G. Chodkiewiczów 4\, Gródek\, 16-040
CATEGORIES:Imprezy plenerowe,Imprezy sportowe,Święta Państwowe
END:VEVENT
END:VCALENDAR