BEGIN:VCALENDAR
VERSION:2.0
PRODID:-//Gminne Centrum Kultury w Gródku - ECPv4.9.5//NONSGML v1.0//EN
CALSCALE:GREGORIAN
METHOD:PUBLISH
X-WR-CALNAME:Gminne Centrum Kultury w Gródku
X-ORIGINAL-URL:https://gckgrodek.pl
X-WR-CALDESC:Events for Gminne Centrum Kultury w Gródku
BEGIN:VTIMEZONE
TZID:"Europe/Warsaw"
BEGIN:DAYLIGHT
TZOFFSETFROM:+0100
TZOFFSETTO:+0200
TZNAME:CEST
DTSTART:20170326T010000
END:DAYLIGHT
BEGIN:STANDARD
TZOFFSETFROM:+0200
TZOFFSETTO:+0100
TZNAME:CET
DTSTART:20171029T010000
END:STANDARD
END:VTIMEZONE
BEGIN:VEVENT
DTSTART;TZID="Europe/Warsaw":20171027T170000
DTEND;TZID="Europe/Warsaw":20171027T183000
DTSTAMP:20260420T131136
CREATED:20171024T132314Z
LAST-MODIFIED:20171101T125156Z
UID:4914-1509123600-1509129000@gckgrodek.pl
SUMMARY:WIECZÓR Z KULTURĄ TATARSKĄ
DESCRIPTION:Stowarzyszenie “Aktywny Senior” oraz Gminne Centrum Kultury w Gródku serdecznie zapraszają na wieczór z kulturą Tatarską\, który odbędzie się 27 października (piątek) o godz. 17.00 w Gminnym Centrum Kultury. W programie m.in. prelekcja na temat historii Tatarów na Podlasiu\, część artystyczna (występ zespołu) oraz degustacja potraw tatarskich. Wstęp wolny! \n
URL:https://gckgrodek.pl/wydarzenie/wieczor-z-kultura-tatarska/
LOCATION:Gminne Centrum Kultury Gródku\, ul. A. i G. Chodkiewiczów 4\, Gródek\, 16-040
CATEGORIES:Koncerty,Spotkania
ATTACH;FMTTYPE=image/jpeg:https://gckgrodek.pl/wp-content/uploads/2017/10/tatar.jpg
END:VEVENT
END:VCALENDAR