BEGIN:VCALENDAR
VERSION:2.0
PRODID:-//Gminne Centrum Kultury w Gródku - ECPv4.9.5//NONSGML v1.0//EN
CALSCALE:GREGORIAN
METHOD:PUBLISH
X-WR-CALNAME:Gminne Centrum Kultury w Gródku
X-ORIGINAL-URL:https://gckgrodek.pl
X-WR-CALDESC:Events for Gminne Centrum Kultury w Gródku
BEGIN:VTIMEZONE
TZID:"Europe/Warsaw"
BEGIN:DAYLIGHT
TZOFFSETFROM:+0100
TZOFFSETTO:+0200
TZNAME:CEST
DTSTART:20180325T010000
END:DAYLIGHT
BEGIN:STANDARD
TZOFFSETFROM:+0200
TZOFFSETTO:+0100
TZNAME:CET
DTSTART:20181028T010000
END:STANDARD
END:VTIMEZONE
BEGIN:VEVENT
DTSTART;TZID="Europe/Warsaw":20180120T170000
DTEND;TZID="Europe/Warsaw":20180120T190000
DTSTAMP:20260420T110838
CREATED:20171208T104102Z
LAST-MODIFIED:20180116T110805Z
UID:8102-1516467600-1516474800@gckgrodek.pl
SUMMARY:WIECZÓR KOLĘD
DESCRIPTION:Serdecznie zapraszamy na WIECZÓR KOLĘD\, który odbędzie się 20 stycznia (sobota) o godz. 17.00 w sali widowiskowej GCK. \nWystąpią: dzieci z Przedszkola Samorządowego\, uczniowie Szkoły Podstawowej\, uczniowie Niepublicznej Szkoły Podstawowej w Załukach\, zespół Kazka\, oraz zespoły z Gminnego Centrum Kultury. Na Zakończenie rozstrzygnięcie konkursu “Najładniejsza bożonarodzeniowa dekoracja posesji na terenie Gminy Gródek”. \n  \n
URL:https://gckgrodek.pl/wydarzenie/wieczor-koled/
LOCATION:Gminne Centrum Kultury Gródku\, ul. A. i G. Chodkiewiczów 4\, Gródek\, 16-040
CATEGORIES:Koncerty
ATTACH;FMTTYPE=image/jpeg:https://gckgrodek.pl/wp-content/uploads/2017/12/plakat_w_koled_18-—-kopia.jpg
ORGANIZER;CN="Gminne%20Centrum%20Kultury%20w%20Gr%C3%B3dku":MAILTO:biuro@gckgrodek.pl
END:VEVENT
END:VCALENDAR