BEGIN:VCALENDAR
VERSION:2.0
PRODID:-//Gminne Centrum Kultury w Gródku - ECPv4.9.5//NONSGML v1.0//EN
CALSCALE:GREGORIAN
METHOD:PUBLISH
X-WR-CALNAME:Gminne Centrum Kultury w Gródku
X-ORIGINAL-URL:https://gckgrodek.pl
X-WR-CALDESC:Events for Gminne Centrum Kultury w Gródku
BEGIN:VTIMEZONE
TZID:"Europe/Warsaw"
BEGIN:DAYLIGHT
TZOFFSETFROM:+0100
TZOFFSETTO:+0200
TZNAME:CEST
DTSTART:20250330T010000
END:DAYLIGHT
BEGIN:STANDARD
TZOFFSETFROM:+0200
TZOFFSETTO:+0100
TZNAME:CET
DTSTART:20251026T010000
END:STANDARD
END:VTIMEZONE
BEGIN:VEVENT
DTSTART;TZID="Europe/Warsaw":20250201T170000
DTEND;TZID="Europe/Warsaw":20250201T170000
DTSTAMP:20260420T112101
CREATED:20250114T121047Z
LAST-MODIFIED:20250120T112234Z
UID:17444-1738429200-1738429200@gckgrodek.pl
SUMMARY:WIECZÓR KOLĘD
DESCRIPTION:Wystąpią:\nPrzedszkole Samorządowe W GródkuSzkoła Podstawowa w GródkuNiepubliczna Szkoła Podstawowa w ZałukachChóry: dziecięcy i młodzieżowy parafii prawosławnej w Królowym MościeChór parafii rzymskokatolickiej W GródkuMarzena SkowrońskaMateusz Tymura z BorekWesołe BabkiKalina\, Jesienny Liść\, Rozśpiewany GródekStudio Śpiewu GCK\, Vena\, Grupa Gitarzystów z GCK\n
URL:https://gckgrodek.pl/wydarzenie/wieczor-koled-4/
LOCATION:Gminne Centrum Kultury Gródku\, ul. A. i G. Chodkiewiczów 4\, Gródek\, 16-040
CATEGORIES:Koncerty
ATTACH;FMTTYPE=image/jpeg:https://gckgrodek.pl/wp-content/uploads/2025/01/plakat_koledy-—-kopia.jpg
END:VEVENT
END:VCALENDAR