BEGIN:VCALENDAR
VERSION:2.0
PRODID:-//Gminne Centrum Kultury w Gródku - ECPv4.9.5//NONSGML v1.0//EN
CALSCALE:GREGORIAN
METHOD:PUBLISH
X-WR-CALNAME:Gminne Centrum Kultury w Gródku
X-ORIGINAL-URL:https://gckgrodek.pl
X-WR-CALDESC:Events for Gminne Centrum Kultury w Gródku
BEGIN:VTIMEZONE
TZID:"Europe/Warsaw"
BEGIN:DAYLIGHT
TZOFFSETFROM:+0100
TZOFFSETTO:+0200
TZNAME:CEST
DTSTART:20230326T010000
END:DAYLIGHT
BEGIN:STANDARD
TZOFFSETFROM:+0200
TZOFFSETTO:+0100
TZNAME:CET
DTSTART:20231029T010000
END:STANDARD
END:VTIMEZONE
BEGIN:VEVENT
DTSTART;TZID="Europe/Warsaw":20230121T170000
DTEND;TZID="Europe/Warsaw":20230121T170000
DTSTAMP:20260420T140458
CREATED:20230111T114205Z
LAST-MODIFIED:20230111T115103Z
UID:16747-1674320400-1674320400@gckgrodek.pl
SUMMARY:WIECZÓR KOLĘD
DESCRIPTION:21 STYCZNIA (SOBOTA)\, godz. 17.00 – s. widowiskowa GCK w Gródku \nWystąpią:\n> Chór parafii prawosławnej w Królowym Moście\n> Przedszkole Samorządowe w Gródku\n> Szkoła Podstawowa w Gródku\n> Punkt Przedszkolny w Załukach\n> Niepubliczna Szkoła Podstawowa w Załukach\n> Rozśpiewany Gródek\, Jesienny Liść\, Kalina\, Chutar\, Studio wokalne\, Vena\, Koło gitarowe / GCK w Gródku \n
URL:https://gckgrodek.pl/wydarzenie/wieczor-koled-3/
LOCATION:Gminne Centrum Kultury Gródku\, ul. A. i G. Chodkiewiczów 4\, Gródek\, 16-040
CATEGORIES:Koncerty
ATTACH;FMTTYPE=image/jpeg:https://gckgrodek.pl/wp-content/uploads/2023/01/plakat_wk_22-—-kopia.jpg
ORGANIZER;CN="Gminne%20Centrum%20Kultury%20w%20Gr%C3%B3dku":MAILTO:biuro@gckgrodek.pl
END:VEVENT
END:VCALENDAR