BEGIN:VCALENDAR
VERSION:2.0
PRODID:-//Gminne Centrum Kultury w Gródku - ECPv4.9.5//NONSGML v1.0//EN
CALSCALE:GREGORIAN
METHOD:PUBLISH
X-WR-CALNAME:Gminne Centrum Kultury w Gródku
X-ORIGINAL-URL:https://gckgrodek.pl
X-WR-CALDESC:Events for Gminne Centrum Kultury w Gródku
BEGIN:VTIMEZONE
TZID:"Europe/Warsaw"
BEGIN:DAYLIGHT
TZOFFSETFROM:+0100
TZOFFSETTO:+0200
TZNAME:CEST
DTSTART:20210328T010000
END:DAYLIGHT
BEGIN:STANDARD
TZOFFSETFROM:+0200
TZOFFSETTO:+0100
TZNAME:CET
DTSTART:20211031T010000
END:STANDARD
END:VTIMEZONE
BEGIN:VEVENT
DTSTART;TZID="Europe/Warsaw":20211217T170000
DTEND;TZID="Europe/Warsaw":20211217T190000
DTSTAMP:20260420T130906
CREATED:20211207T132404Z
LAST-MODIFIED:20211207T132404Z
UID:16278-1639760400-1639767600@gckgrodek.pl
SUMMARY:WIECZÓR GIER PLANSZOWYCH
DESCRIPTION:WIECZÓR GIER PLANSZOWYCH\n17 grudnia (piątek)\ngodz. 17.00\, s. widowiskowa GCK\n Długie zimowe wieczory nam nie straszne!\n Daj się ponieść magii gier planszowych!\n Zagramy w popularne i mniej znane\nplanszówki – można przynosić swoje gry \nZAPISY do dn. 16 grudnia mailowo:\nzapisy@gckgrodek.pl\nOrganizator: Gminne Centrum Kultury w Gródku\nPartnerzy: Biblioteka Publiczna w Gródku\, Fundacja OKNO NA WSCHÓD oraz Stowarzyszenie Aktywny Senior\n
URL:https://gckgrodek.pl/wydarzenie/wieczor-gier-planszowych/
LOCATION:Gminne Centrum Kultury Gródku\, ul. A. i G. Chodkiewiczów 4\, Gródek\, 16-040
CATEGORIES:Spotkania
ATTACH;FMTTYPE=image/jpeg:https://gckgrodek.pl/wp-content/uploads/2021/12/Bez-nazwy-2-—-kopia.jpg
ORGANIZER;CN="Gminne%20Centrum%20Kultury%20w%20Gr%C3%B3dku":MAILTO:biuro@gckgrodek.pl
END:VEVENT
END:VCALENDAR