BEGIN:VCALENDAR
VERSION:2.0
PRODID:-//Gminne Centrum Kultury w Gródku - ECPv4.9.5//NONSGML v1.0//EN
CALSCALE:GREGORIAN
METHOD:PUBLISH
X-WR-CALNAME:Gminne Centrum Kultury w Gródku
X-ORIGINAL-URL:https://gckgrodek.pl
X-WR-CALDESC:Events for Gminne Centrum Kultury w Gródku
BEGIN:VTIMEZONE
TZID:"Europe/Warsaw"
BEGIN:DAYLIGHT
TZOFFSETFROM:+0100
TZOFFSETTO:+0200
TZNAME:CEST
DTSTART:20190331T010000
END:DAYLIGHT
BEGIN:STANDARD
TZOFFSETFROM:+0200
TZOFFSETTO:+0100
TZNAME:CET
DTSTART:20191027T010000
END:STANDARD
END:VTIMEZONE
BEGIN:VEVENT
DTSTART;TZID="Europe/Warsaw":20191214T110000
DTEND;TZID="Europe/Warsaw":20191214T130000
DTSTAMP:20260420T140157
CREATED:20191204T135234Z
LAST-MODIFIED:20191204T165753Z
UID:14135-1576321200-1576328400@gckgrodek.pl
SUMMARY:WARSZTATY BOŻONARODZENIOWE
DESCRIPTION:Gminne Centrum Kultury w Gródku wraz z Nadleśnictwem Waliły zapraszają na drugą edycję rodzinnych warsztatów tworzenia ozdób choinkowych\, które odbędą się 14 grudnia 2019 r. o godz. 11.00 w GCK. \nObowiązują zapisy: zapisy@gckgrodek.pl \n
URL:https://gckgrodek.pl/wydarzenie/warsztaty-bozonarodzeniowe/
LOCATION:Gminne Centrum Kultury Gródku\, ul. A. i G. Chodkiewiczów 4\, Gródek\, 16-040
CATEGORIES:Warsztaty
ATTACH;FMTTYPE=image/jpeg:https://gckgrodek.pl/wp-content/uploads/2019/12/warsztaty-nadlesnictwo-—-kopia.jpg
ORGANIZER;CN="Gminne%20Centrum%20Kultury%20w%20Gr%C3%B3dku":MAILTO:biuro@gckgrodek.pl
END:VEVENT
END:VCALENDAR