BEGIN:VCALENDAR
VERSION:2.0
PRODID:-//Gminne Centrum Kultury w Gródku - ECPv4.9.5//NONSGML v1.0//EN
CALSCALE:GREGORIAN
METHOD:PUBLISH
X-WR-CALNAME:Gminne Centrum Kultury w Gródku
X-ORIGINAL-URL:https://gckgrodek.pl
X-WR-CALDESC:Events for Gminne Centrum Kultury w Gródku
BEGIN:VTIMEZONE
TZID:"Europe/Warsaw"
BEGIN:DAYLIGHT
TZOFFSETFROM:+0100
TZOFFSETTO:+0200
TZNAME:CEST
DTSTART:20180325T010000
END:DAYLIGHT
BEGIN:STANDARD
TZOFFSETFROM:+0200
TZOFFSETTO:+0100
TZNAME:CET
DTSTART:20181028T010000
END:STANDARD
END:VTIMEZONE
BEGIN:VEVENT
DTSTART;TZID="Europe/Warsaw":20180214T170000
DTEND;TZID="Europe/Warsaw":20180214T183000
DTSTAMP:20260420T081220
CREATED:20180207T091300Z
LAST-MODIFIED:20180207T093648Z
UID:8713-1518627600-1518633000@gckgrodek.pl
SUMMARY:WALENTYNKOWY WIECZÓR POEZJI
DESCRIPTION:Serdecznie zapraszamy na Walentynkowy Wieczór Poezji\, który odbędzie się 14 lutego o godz. 17.00 w sali konferencyjnej Gminnego Centrum Kultury w Gródku. W programie: rozstrzygnięcie i wręczenie nagród w XI edycji konkursu: “Każdy Pisać Może”; wystąpienia poetów; część artystyczna oraz słodki poczęstunek. \n
URL:https://gckgrodek.pl/wydarzenie/walentynkowy-wieczor-poezji/
LOCATION:Gminne Centrum Kultury Gródku\, ul. A. i G. Chodkiewiczów 4\, Gródek\, 16-040
CATEGORIES:Spotkania
ATTACH;FMTTYPE=image/jpeg:https://gckgrodek.pl/wp-content/uploads/2018/02/azdy_pisac_moze_wieczor_poezji_17DRUK.jpg
ORGANIZER;CN="Gminne%20Centrum%20Kultury%20w%20Gr%C3%B3dku":MAILTO:biuro@gckgrodek.pl
END:VEVENT
END:VCALENDAR