BEGIN:VCALENDAR
VERSION:2.0
PRODID:-//Gminne Centrum Kultury w Gródku - ECPv4.9.5//NONSGML v1.0//EN
CALSCALE:GREGORIAN
METHOD:PUBLISH
X-WR-CALNAME:Gminne Centrum Kultury w Gródku
X-ORIGINAL-URL:https://gckgrodek.pl
X-WR-CALDESC:Events for Gminne Centrum Kultury w Gródku
BEGIN:VTIMEZONE
TZID:"Europe/Warsaw"
BEGIN:DAYLIGHT
TZOFFSETFROM:+0100
TZOFFSETTO:+0200
TZNAME:CEST
DTSTART:20190331T010000
END:DAYLIGHT
BEGIN:STANDARD
TZOFFSETFROM:+0200
TZOFFSETTO:+0100
TZNAME:CET
DTSTART:20191027T010000
END:STANDARD
END:VTIMEZONE
BEGIN:VEVENT
DTSTART;TZID="Europe/Warsaw":20191103T090000
DTEND;TZID="Europe/Warsaw":20191103T140000
DTSTAMP:20260421T082152
CREATED:20191019T124607Z
LAST-MODIFIED:20191019T124607Z
UID:13460-1572771600-1572789600@gckgrodek.pl
SUMMARY:TURNIEJ CHARYTATYWNY
DESCRIPTION:TURNIEJ CHARYTATYWNY dla Nadii i Leny MARCINCZYK z Gródka \n3 listopada 2019\, godz. 900 Stadion w Zarzeczanach \nWięcej informacji i zapisy u Magdaleny i Jana Łotyszów\, tel. 694 669 330 i 608 694 164. \nPODCZAS TURNIEJU ODBĘDZIE SIĘ KIERMASZ CIAST. ZAPRASZAMY DO ZAKUPU I POMOCY W PRZYGOTOWANIU. \n
URL:https://gckgrodek.pl/wydarzenie/turniej-charytatywny/
LOCATION:Stadion w Zarzeczanach
CATEGORIES:Imprezy sportowe
ATTACH;FMTTYPE=image/jpeg:https://gckgrodek.pl/wp-content/uploads/2019/10/turniej_plakat_niepodległość-—-kopia.jpg
ORGANIZER;CN="Gminne%20Centrum%20Kultury%20w%20Gr%C3%B3dku":MAILTO:biuro@gckgrodek.pl
END:VEVENT
END:VCALENDAR