BEGIN:VCALENDAR
VERSION:2.0
PRODID:-//Gminne Centrum Kultury w Gródku - ECPv4.9.5//NONSGML v1.0//EN
CALSCALE:GREGORIAN
METHOD:PUBLISH
X-WR-CALNAME:Gminne Centrum Kultury w Gródku
X-ORIGINAL-URL:https://gckgrodek.pl
X-WR-CALDESC:Events for Gminne Centrum Kultury w Gródku
BEGIN:VTIMEZONE
TZID:"Europe/Warsaw"
BEGIN:DAYLIGHT
TZOFFSETFROM:+0100
TZOFFSETTO:+0200
TZNAME:CEST
DTSTART:20180325T010000
END:DAYLIGHT
BEGIN:STANDARD
TZOFFSETFROM:+0200
TZOFFSETTO:+0100
TZNAME:CET
DTSTART:20181028T010000
END:STANDARD
END:VTIMEZONE
BEGIN:VEVENT
DTSTART;TZID="Europe/Warsaw":20181111T114000
DTEND;TZID="Europe/Warsaw":20181111T150000
DTSTAMP:20260420T080231
CREATED:20181106T134719Z
LAST-MODIFIED:20181106T134720Z
UID:10974-1541936400-1541948400@gckgrodek.pl
SUMMARY:ŚWIĘTO NIEPODLEGŁOŚCI
DESCRIPTION:PROGRAM UROCZYSTOŚCI: \n\ngodz. 9.00 – nabożeństwo w intencji ojczyzny w cerkwi pw. Narodzenia NMP w Gródku\ngodz. 10.45 – nabożeństwo w intencji ojczyzny w kościele Najświętszego Serca Pana Jezusa w Gródku\ngodz. 11.40 – uroczysty przemarsz z placu szkolnego\, złożenie przez władze i delegacje kwiatów przy Pomniku Grunwaldu i Pomniku Pamięci Poległym; wspólne sadzenie pamiątkowego dębu w parku;\ngodz. 12.00 – „Niepodległa do hymnu” – wspólne śpiewanie Hymnu Państwowego;\ngodz. 12.30 – „Rodzinna Niepodległa”\, czyli wspólne\, radosne świętowanie z najbliższymi – sala sportowa w Szkole Podstawowej w Gródku\n– powitanie gości\, część oficjalna;\n– część artystyczna w wykonaniu dzieci z Publicznego Przedszkola w Gródku;\n– stoiska tematyczne Policji\, Straży Granicznej\, OSP Gródek\, Nadleśnictwo Waliły\, Lasy Państwowe\, Twórczy Generator\, Towarzystwa Przyjaciół Ziemi Gródeckiej\, Szkoła Podstawowa im. Partyzantów Braci M i A Chrzanowskich w Gródku\, Gminy Gródek oraz Centrum Powiadamiania Ratunkowego 112 z konkursami dla rodzin; rodziny\, które zaliczą wszystkie stanowiska otrzymają pamiątkowy medal;\n– kącik dla maluchów: malowanie twarzy na barwy narodowe oraz kolorowanki;\n– gorący poczęstunek dla wszystkich; \nOrganizatorzy:\n– Gmina Gródek www.grodek.pl\n– Gminne Centrum Kultury w Gródku\n– Szkoła Podstawowa im. Partyzantów Braci M i A Chrzanowskich w Gródku\n\n
URL:https://gckgrodek.pl/wydarzenie/swieto-niepodleglosci/
LOCATION:Szkoła Podstawowa im. Partyzantów Braci M. i A. Chrzanowskich\, ul. Chodkiewiczów 18\, Gródek\, podlaskie\, 16-040\, Polska
CATEGORIES:Święta Państwowe
ATTACH;FMTTYPE=image/jpeg:https://gckgrodek.pl/wp-content/uploads/2018/11/Bez-nazwy-1-—-kopia.jpg
ORGANIZER;CN="Gminne%20Centrum%20Kultury%20w%20Gr%C3%B3dku":MAILTO:biuro@gckgrodek.pl
END:VEVENT
END:VCALENDAR