BEGIN:VCALENDAR
VERSION:2.0
PRODID:-//Gminne Centrum Kultury w Gródku - ECPv4.9.5//NONSGML v1.0//EN
CALSCALE:GREGORIAN
METHOD:PUBLISH
X-WR-CALNAME:Gminne Centrum Kultury w Gródku
X-ORIGINAL-URL:https://gckgrodek.pl
X-WR-CALDESC:Events for Gminne Centrum Kultury w Gródku
BEGIN:VTIMEZONE
TZID:"Europe/Warsaw"
BEGIN:DAYLIGHT
TZOFFSETFROM:+0100
TZOFFSETTO:+0200
TZNAME:CEST
DTSTART:20190331T010000
END:DAYLIGHT
BEGIN:STANDARD
TZOFFSETFROM:+0200
TZOFFSETTO:+0100
TZNAME:CET
DTSTART:20191027T010000
END:STANDARD
END:VTIMEZONE
BEGIN:VEVENT
DTSTART;TZID="Europe/Warsaw":20191213T170000
DTEND;TZID="Europe/Warsaw":20191213T180000
DTSTAMP:20260420T142439
CREATED:20191128T104112Z
LAST-MODIFIED:20191128T104112Z
UID:14131-1576256400-1576260000@gckgrodek.pl
SUMMARY:SPOTKANIE Z SIOSTRAMI Z TURKOWIC
DESCRIPTION:Serdecznie zapraszamy 13 grudnia (piątek) o godz. 17.00 na spotkanie z mniszkami z Monasteru Opieki Matki Bożej w Turkowicach. Podczas spotkania siostry zaprezentują swoją publikację “Nasza wiara od kuchni”. Książka pt. “Nasza wiara od kuchni” zawiera teksty na temat monasterskich tradycji żywieniowych\, postu czy roku liturgicznego w prawosławiu. W książce znajduje się także ponad 200 przepisów na postne potrawy. Mniszki również opowiedzą o monasterze w Turkowicach oraz ich codziennych pracach\, a także odpowiedzą na zadane pytania. \nW trakcie spotkania zostanie również wyświetlony film o monasterze\, a siostry zaśpiewają kolędy. Na zakończenie będzie możliwość zakupu książki\, a także monasterskich produktów tj. przetwory czy herbatki. \n
URL:https://gckgrodek.pl/wydarzenie/spotkanie-z-siostrami-z-turkowic/
LOCATION:Gminne Centrum Kultury Gródku\, ul. A. i G. Chodkiewiczów 4\, Gródek\, 16-040
CATEGORIES:Spotkania
ATTACH;FMTTYPE=image/jpeg:https://gckgrodek.pl/wp-content/uploads/2019/11/plakat_spotkanie_tu_19-—-kopia.jpg
ORGANIZER;CN="Gminne%20Centrum%20Kultury%20w%20Gr%C3%B3dku":MAILTO:biuro@gckgrodek.pl
END:VEVENT
END:VCALENDAR