BEGIN:VCALENDAR
VERSION:2.0
PRODID:-//Gminne Centrum Kultury w Gródku - ECPv4.9.5//NONSGML v1.0//EN
CALSCALE:GREGORIAN
METHOD:PUBLISH
X-WR-CALNAME:Gminne Centrum Kultury w Gródku
X-ORIGINAL-URL:https://gckgrodek.pl
X-WR-CALDESC:Events for Gminne Centrum Kultury w Gródku
BEGIN:VTIMEZONE
TZID:"Europe/Warsaw"
BEGIN:DAYLIGHT
TZOFFSETFROM:+0100
TZOFFSETTO:+0200
TZNAME:CEST
DTSTART:20180325T010000
END:DAYLIGHT
BEGIN:STANDARD
TZOFFSETFROM:+0200
TZOFFSETTO:+0100
TZNAME:CET
DTSTART:20181028T010000
END:STANDARD
END:VTIMEZONE
BEGIN:VEVENT
DTSTART;TZID="Europe/Warsaw":20180418T180000
DTEND;TZID="Europe/Warsaw":20180418T190000
DTSTAMP:20260420T003347
CREATED:20180411T104220Z
LAST-MODIFIED:20180411T104220Z
UID:9314-1524074400-1524078000@gckgrodek.pl
SUMMARY:Spotkanie w Wiejkach
DESCRIPTION:Spotkanie ma na celu postawienie diagnozy kulturalnej dla danej części społeczeństwa. W trakcie spotkania stowarzyszenie wykonujące diagnozę zapozna się z działaniami grupy zamieszkującej dany obszar\, oczekiwaniami w stosunku do Gminnego Centrum Kultury oraz ciekawymi pomysłami lokalnej społeczności.  \n
URL:https://gckgrodek.pl/wydarzenie/spotkanie-w-wiejkach/
LOCATION:Budynek Szkoły w Wiejkach\, Wiejki\, Gródek\, Podlaskie\, 16-040
CATEGORIES:Spotkania
ATTACH;FMTTYPE=image/jpeg:https://gckgrodek.pl/wp-content/uploads/2018/04/PALKAT_WIEJKI.jpg
ORGANIZER;CN="Gminne%20Centrum%20Kultury%20w%20Gr%C3%B3dku":MAILTO:biuro@gckgrodek.pl
END:VEVENT
END:VCALENDAR