BEGIN:VCALENDAR
VERSION:2.0
PRODID:-//Gminne Centrum Kultury w Gródku - ECPv4.9.5//NONSGML v1.0//EN
CALSCALE:GREGORIAN
METHOD:PUBLISH
X-WR-CALNAME:Gminne Centrum Kultury w Gródku
X-ORIGINAL-URL:https://gckgrodek.pl
X-WR-CALDESC:Events for Gminne Centrum Kultury w Gródku
BEGIN:VTIMEZONE
TZID:"Europe/Warsaw"
BEGIN:DAYLIGHT
TZOFFSETFROM:+0100
TZOFFSETTO:+0200
TZNAME:CEST
DTSTART:20230326T010000
END:DAYLIGHT
BEGIN:STANDARD
TZOFFSETFROM:+0200
TZOFFSETTO:+0100
TZNAME:CET
DTSTART:20231029T010000
END:STANDARD
END:VTIMEZONE
BEGIN:VEVENT
DTSTART;TZID="Europe/Warsaw":20230308T130000
DTEND;TZID="Europe/Warsaw":20230308T140000
DTSTAMP:20260420T112939
CREATED:20230306T124628Z
LAST-MODIFIED:20230306T124628Z
UID:16809-1678280400-1678284000@gckgrodek.pl
SUMMARY:SPOTKANIE PRZY KAWIE DLA SENIOREK
DESCRIPTION:
URL:https://gckgrodek.pl/wydarzenie/spotkanie-przy-kawie-dla-seniorek/
LOCATION:Gminne Centrum Kultury Gródku\, ul. A. i G. Chodkiewiczów 4\, Gródek\, 16-040
CATEGORIES:Spotkania
ATTACH;FMTTYPE=image/jpeg:https://gckgrodek.pl/wp-content/uploads/2023/03/post_poziom_fb-—-kopia.jpg
ORGANIZER;CN="Gminne%20Centrum%20Kultury%20w%20Gr%C3%B3dku":MAILTO:biuro@gckgrodek.pl
END:VEVENT
END:VCALENDAR