BEGIN:VCALENDAR
VERSION:2.0
PRODID:-//Gminne Centrum Kultury w Gródku - ECPv4.9.5//NONSGML v1.0//EN
CALSCALE:GREGORIAN
METHOD:PUBLISH
X-WR-CALNAME:Gminne Centrum Kultury w Gródku
X-ORIGINAL-URL:https://gckgrodek.pl
X-WR-CALDESC:Events for Gminne Centrum Kultury w Gródku
BEGIN:VTIMEZONE
TZID:"Europe/Warsaw"
BEGIN:DAYLIGHT
TZOFFSETFROM:+0100
TZOFFSETTO:+0200
TZNAME:CEST
DTSTART:20210328T010000
END:DAYLIGHT
BEGIN:STANDARD
TZOFFSETFROM:+0200
TZOFFSETTO:+0100
TZNAME:CET
DTSTART:20211031T010000
END:STANDARD
END:VTIMEZONE
BEGIN:VEVENT
DTSTART;TZID="Europe/Warsaw":20211119T170000
DTEND;TZID="Europe/Warsaw":20211119T183000
DTSTAMP:20260420T131154
CREATED:20211115T093716Z
LAST-MODIFIED:20211115T093747Z
UID:16250-1637341200-1637346600@gckgrodek.pl
SUMMARY:SPOTKANIE AUTORSKIE Z WOJCIECHEM KORONKIEWICZEM
DESCRIPTION:Spotkanie autorskie z Wojciechem Koronkiewiczem – autorem książki pt. „Z Matką Boską na rowerze. Podróż do cudownych obrazów\, ikon\, świętych źródeł Podlasia.”\n\n19 listopada (piątek)\, godz. 17.00 \nGminne Centrum Kultury w Gródku\n\nwstęp wolny!\n\nKsiążka opowiada o niezwykłych miejscach Podlasia. Świętych źródłach i cudami słynących ikonach.\nCzy w XXI wieku jest jeszcze miejsce na cuda? Książka miała znakomite recenzje w Przewodniku Katolickim i Przeglądzie Prawosławnym.\nW ciągu kilku tygodni wspięła się na sam szczyt bestsellerów w kategorii Turystyka i Podróże. Jej fragmenty drukowano w Kanadzie i Australii.\nZostała przetłumaczona na język esperanto i wydana staraniem Białostockiego Stowarzyszenia Esperantystów.\n__\nWojciech Koronkiewicz.\nUrodzony w kwietniu 1969 roku. W Białymstoku. W rodzinie katolickiej. Ale Dziadek był prawosławny. Na parowozie jeździł jako maszynista. Jak Go Babcia zobaczyła – ślub w tydzień był.\nBył Koronkiewicz poetą\, dziennikarzem\, filmy kręcił\, w radzie miasta zasiadał. Ale też na budowie ciężarówki rozładowywał i rowy kopał koncertowo.\nMieszkał w Paryżu\, Nowym Yorku i Warszawie. Ale wrócił. Gdzież jest bowiem lepiej niż tu?\nTeraz jeździ rowerem\, wyprowadza psy ze schroniska\, pisze książki.\n
URL:https://gckgrodek.pl/wydarzenie/spotkanie-autorskie-z-wojciechem-koronkiewiczem/
LOCATION:Gminne Centrum Kultury Gródku\, ul. A. i G. Chodkiewiczów 4\, Gródek\, 16-040
CATEGORIES:Spotkania
ATTACH;FMTTYPE=image/jpeg:https://gckgrodek.pl/wp-content/uploads/2021/11/plakat-—-kopia.jpg
ORGANIZER;CN="Gminne%20Centrum%20Kultury%20w%20Gr%C3%B3dku":MAILTO:biuro@gckgrodek.pl
END:VEVENT
END:VCALENDAR