BEGIN:VCALENDAR
VERSION:2.0
PRODID:-//Gminne Centrum Kultury w Gródku - ECPv4.9.5//NONSGML v1.0//EN
CALSCALE:GREGORIAN
METHOD:PUBLISH
X-WR-CALNAME:Gminne Centrum Kultury w Gródku
X-ORIGINAL-URL:https://gckgrodek.pl
X-WR-CALDESC:Events for Gminne Centrum Kultury w Gródku
BEGIN:VTIMEZONE
TZID:"Europe/Warsaw"
BEGIN:DAYLIGHT
TZOFFSETFROM:+0100
TZOFFSETTO:+0200
TZNAME:CEST
DTSTART:20240331T010000
END:DAYLIGHT
BEGIN:STANDARD
TZOFFSETFROM:+0200
TZOFFSETTO:+0100
TZNAME:CET
DTSTART:20241027T010000
END:STANDARD
END:VTIMEZONE
BEGIN:VEVENT
DTSTART;TZID="Europe/Warsaw":20240926T110000
DTEND;TZID="Europe/Warsaw":20240926T123000
DTSTAMP:20260422T100725
CREATED:20240924T111552Z
LAST-MODIFIED:20240924T111552Z
UID:17364-1727348400-1727353800@gckgrodek.pl
SUMMARY:SPEKTAKL "WRÓG"
DESCRIPTION:\n26 września zapraszamy na interaktywny spektakl pt. „Wróg”\, który powstał w ramach projektu Młodzieżowy Teatr Włączający.\n\n\nSpektakl jest efektem pracy twórczej dzieci i młodzieży Specjalnego Ośrodka Szkolno-Wychowawczego w Białymstoku. Młodzi artyści przez kilka miesięcy uczestniczyli w warsztatach prowadzonych przez pracowników Muzeum Wojska w Białymstoku i Akademii Teatralnej im. A. Zelwerowicza w Białymstoku. Wspólnie opracowali scenariusz przedstawienia w którym dzielą się swoim sposobem rozumienia konfliktów zbrojnych i refleksją nad ich okrucieństwem.\n\n\nWystępują: Wychowankowie Specjalnego Ośrodka Szkolno-Wychowawczego w Białymstoku im. Waldemara Kikolskiego oraz studenci Akademii Teatralnej im. A. Zelwerowicza w Białymstoku\n\n\nScenariusz: Paula Czarnecka. Choreografia: Dorota Baranowska. Teksty i dialogi: Karolina Czarnecka. Scenografia: Maria Żynel\n\n\nProjekt „Młodzieżowy teatr włączający” realizowany w ramach Programu Kultura Dostępna dofinansowano ze środków Ministra Kultury i Dziedzictwa Narodowego pochodzących z Funduszu Promocji Kultury.\n\n
URL:https://gckgrodek.pl/wydarzenie/spektakl-wrog/
LOCATION:Gminne Centrum Kultury Gródku\, ul. A. i G. Chodkiewiczów 4\, Gródek\, 16-040
CATEGORIES:Teatr
ATTACH;FMTTYPE=image/jpeg:https://gckgrodek.pl/wp-content/uploads/2024/09/Młodzieżowy-teatr-włączający-plakat-A2-3mm-2024-GRÓDEK-—-kopia.jpg
ORGANIZER;CN="Gminne%20Centrum%20Kultury%20w%20Gr%C3%B3dku":MAILTO:biuro@gckgrodek.pl
END:VEVENT
END:VCALENDAR