BEGIN:VCALENDAR
VERSION:2.0
PRODID:-//Gminne Centrum Kultury w Gródku - ECPv4.9.5//NONSGML v1.0//EN
CALSCALE:GREGORIAN
METHOD:PUBLISH
X-WR-CALNAME:Gminne Centrum Kultury w Gródku
X-ORIGINAL-URL:https://gckgrodek.pl
X-WR-CALDESC:Events for Gminne Centrum Kultury w Gródku
BEGIN:VTIMEZONE
TZID:"Europe/Warsaw"
BEGIN:DAYLIGHT
TZOFFSETFROM:+0100
TZOFFSETTO:+0200
TZNAME:CEST
DTSTART:20220327T010000
END:DAYLIGHT
BEGIN:STANDARD
TZOFFSETFROM:+0200
TZOFFSETTO:+0100
TZNAME:CET
DTSTART:20221030T010000
END:STANDARD
END:VTIMEZONE
BEGIN:VEVENT
DTSTART;TZID="Europe/Warsaw":20221009T080000
DTEND;TZID="Europe/Warsaw":20221009T170000
DTSTAMP:20260422T113610
CREATED:20220914T101333Z
LAST-MODIFIED:20220919T104522Z
UID:16636-1665302400-1665334800@gckgrodek.pl
SUMMARY:SPEKTAKL PT. "BEZPIECZNE MIEJSCE"
DESCRIPTION:Kolejny raz bierzemy udział w programie TEATR POLSKA! To program w którym duże teatry odwiedzają mniejsze miejscowości!\nTo niesamowita okazja!\n\nTym razem zapraszamy Was do obejrzenia spektaklu pt. “Bezpieczne miejsce” Teatru Łaźnia Nowa z Krakowa.\nPrzedstawienie to opowieść o ludziach z kryjówki – o tych\, którzy we wszystkim widzą koniec wszystkiego. Którzy nieustannie odczuwają nadciągającą gdzieś z zewnątrz katastrofę. Jako widzowie razem z dwójką performerów bierzemy udział w medytacji nad postaciami. Aktorzy opowiadają o bezpiecznym miejscu bohaterów. O schronieniu\, jakie w obliczu niepokojów i lęków przed światem daje im ich własne – fizyczne i metaforyczne – wnętrze. To miejsce\, w którym można przyjrzeć się sobie i swoim lękom. Swojemu światu i swoim końcom świata. Współuczestnicząc w intymnej i łagodnej introspekcji będziemy mieć okazję do przejrzenia się w oczach drugiego – takiego samego lub innego. Medytacja nad postaciami da szansę do odpowiedzi na pytanie: czym jest moje bezpieczne miejsce?\n\nKoszt biletu to tylko 10 zł – płatność online (tytułem imię i nazwisko – teatr) na konto Gminnego Centrum Kultury w Gródku 68 8060 0004 0390 0202 2000 0050 do dnia 7 października. BILETY MOŻNA KUPIĆ TYLKO PŁACĄC NA KONTO! \n\nczas trwania: 60\ngrupa wiekowa: młodzież i dorośli\nmuzyka: Michał Lazar\ndramaturgia: Piotr Froń\ndata premiery: 12 października 2021\n
URL:https://gckgrodek.pl/wydarzenie/spektakl-pt-bezpieczne-miejsce/
LOCATION:Gminne Centrum Kultury Gródku\, ul. A. i G. Chodkiewiczów 4\, Gródek\, 16-040
CATEGORIES:Teatr
ATTACH;FMTTYPE=image/jpeg:https://gckgrodek.pl/wp-content/uploads/2022/09/Bezpieczne-miejsce_plakat_A3print-—-kopia.jpg
ORGANIZER;CN="Gminne%20Centrum%20Kultury%20w%20Gr%C3%B3dku":MAILTO:biuro@gckgrodek.pl
END:VEVENT
END:VCALENDAR