BEGIN:VCALENDAR
VERSION:2.0
PRODID:-//Gminne Centrum Kultury w Gródku - ECPv4.9.5//NONSGML v1.0//EN
CALSCALE:GREGORIAN
METHOD:PUBLISH
X-WR-CALNAME:Gminne Centrum Kultury w Gródku
X-ORIGINAL-URL:https://gckgrodek.pl
X-WR-CALDESC:Events for Gminne Centrum Kultury w Gródku
BEGIN:VTIMEZONE
TZID:"Europe/Warsaw"
BEGIN:DAYLIGHT
TZOFFSETFROM:+0100
TZOFFSETTO:+0200
TZNAME:CEST
DTSTART:20190331T010000
END:DAYLIGHT
BEGIN:STANDARD
TZOFFSETFROM:+0200
TZOFFSETTO:+0100
TZNAME:CET
DTSTART:20191027T010000
END:STANDARD
END:VTIMEZONE
BEGIN:VEVENT
DTSTART;TZID="Europe/Warsaw":20190727T170000
DTEND;TZID="Europe/Warsaw":20190728T030000
DTSTAMP:20260420T094058
CREATED:20190703T083205Z
LAST-MODIFIED:20190703T125901Z
UID:12572-1564246800-1564282800@gckgrodek.pl
SUMMARY:SIABROUSKAJA BIASIEDA 2019
DESCRIPTION:XX Międzynarodowy Festiwal „Siabrouskaja Biasieda” \n27 lipca 2019\, godz. 17.00 \nLeśny uroczysko „Boryk” w Gródku \nSiabrouskaja Biasieda to jedna z ważniejszych imprez o zasięgu międzynarodowym\, prezentująca dorobek kulturowy regionu i twórczość ludową z głównym naciskiem na kulturę mniejszości białoruskiej. Impreza będzie miała charakter koncertu połączonego ze wspólną zabawą\, w której uczestniczą wykonawcy i publiczność. Nawiąże do tradycyjnego\, zakorzenionego w kulturze słowiańskiej\, przyjacielskiego spotkania\, na którym nie może zabraknąć muzyki\, śpiewu i tańca. Projekt\, który w szerokim rozmiarze zaprezentuje rodzimą\, ludową kulturę\, będzie również – poprzez udział zespołów z Polski i Białorusi oraz przedstawicieli kultur mniejszości narodowych zamieszkujących Podlasie – okazją do prezentacji bogactwa kultury pogranicza oraz promocji walorów przyrodniczo-turystycznych gminy\, powiatu i całego województwa podlaskiego. Udział w imprezie zespołów dziecięcych\, młodzieżowych i dorosłych wprowadzi różnorodność repertuarową\, a różne rodzaje muzyki i śpiewu dadzą okazję do wspólnej zabawy. Oprócz dobrej zabawy spotkanie umożliwi młodzieży poznanie bogactwa rodzimego folkloru i tradycji regionalnych niezbędnych do określenia tożsamości narodowej\, zaś całej społeczności – poznanie wspólnych korzeni\, powrót do tradycji oraz uświadomi konieczność pielęgnowania jej dla przyszłych pokoleń. \nW tym roku Festiwal jest organizowany po raz dwudziesty. Z tej okazji przygotowane zostały liczne atrakcje i bogaty program artystyczny. W trakcie imprezy oprócz występów zespołów i artystów ludowych odbędą się konkursy: najsmaczniejsza potrawa regionalna\, konkurs na zdjęcie/sefie z imprezy z hashtagiem\, oceniany przez użytkowników portalu Instagram oraz konkurs na prace plastyczną pod hasłem: „Siabrouskaja Biasieda oczami dziecka”. Gwiazdą wieczoru będzie Adam Asanov wokalista zespołu PIERSI (twórca hitu „Bałkanica”) w biesiadnym polsko-bałkańskim repertuarze. Urozmaiceniem imprezy będzie występ specjalnie zaproszonych na tą okazję gwiazd wieczoru z Białorusi: Streczanije\, Iwica\, Ćwiecień oraz Uładary. W ramach Podlaskiej Oktawy Kultur na Siabrouskiej Biasiedzie wystąpi zespół Kupalinka z Białorusi. Muzykę na żywo zaprezentują zespoły: Gaj\, Obraz Kontrolny oraz Niemoralna Propozycja.  Nie zabraknie również gwiazd muzyki estradowej z Podlasia m.in.: Dobryje Grajki\, Zorka\, Zołoto\, ServerDance\, Souvenir. Całość wydarzenia w humorystycznej oprawie poprowadzą członkowie zespołów i stowarzyszeń z Gminy Gródek. \n \nRegulamin oraz zgoda na przetwarzanie danych osobowych  \n \nRegulamin oraz zgoda na przetwarzanie danych osobowych  \n \nRegulamin oraz zgoda na przetwarzanie danych osobowych  \n  \nMapka dla kierowców: https://drive.google.com/open?id=1faef2eCdmrxvFD5rIt6MkM8jwXQ&usp=sparing \nWspółrzędne: N 53°6’21.2004″\, E 23°39’41.4108″ \n \n  \nNa imprezę będzie można dojechać z Białegostoku pociągiem weekendowym\, malowniczą trasą przez puszczę. Pociąg relacji Białystok – Waliły w dniu 27 lipca wyjeżdża z Dworca PKP w Białegostoku o godzinach:9:00\, 15:50 i 18:30. Natomiast powrót 28 lipca ze stacji Waliły: 00:30\, 10:26\, 16:56. \nMiędzynarodowy Festiwal „Siabrouskaja Biasieda” będzie można obejrzeć na żywo (online) z każdego zakątku Polski i świata poprzez portal transmitujemy.pl oraz serwis YouTube. \n  \nZrealizowano dzięki dotacji Ministra Spraw Wewnętrznych i Administracji.\nZadanie współfinansowane przez Powiat Białostocki.\nOrganizatorzy: Gmina Gródek\, Gminne Centrum Kultury w Gródku\, Białoruskie Towarzystwo Społeczno-Kulturalne w Białymstoku; Sponsor główny: Marka Żubr; Patronat medialny: Telewizja Białystok\, Radio Białystok\, Radio Orthodoxia\, Wrota Podlasia\, BiałystokOnline.pl\, Portal Knyszynska.eu\, Wiadomości Gródeckie – Haradockija Nawiny. \nOrganizatorzy:\n \n \n \n\nPatronat medialny:\n \n \n \n \n \n \n \nSponsor Główny: \n \n
URL:https://gckgrodek.pl/wydarzenie/siabrouskaja-biasieda-2019/
LOCATION:Boryk\, Gródek\, Podlaskie\, 16-040
CATEGORIES:Imprezy plenerowe
ATTACH;FMTTYPE=image/jpeg:https://gckgrodek.pl/wp-content/uploads/2019/07/sb_A3.jpg
ORGANIZER;CN="Gminne%20Centrum%20Kultury%20w%20Gr%C3%B3dku":MAILTO:biuro@gckgrodek.pl
END:VEVENT
END:VCALENDAR