BEGIN:VCALENDAR
VERSION:2.0
PRODID:-//Gminne Centrum Kultury w Gródku - ECPv4.9.5//NONSGML v1.0//EN
CALSCALE:GREGORIAN
METHOD:PUBLISH
X-WR-CALNAME:Gminne Centrum Kultury w Gródku
X-ORIGINAL-URL:https://gckgrodek.pl
X-WR-CALDESC:Events for Gminne Centrum Kultury w Gródku
BEGIN:VTIMEZONE
TZID:"Europe/Warsaw"
BEGIN:DAYLIGHT
TZOFFSETFROM:+0100
TZOFFSETTO:+0200
TZNAME:CEST
DTSTART:20180325T010000
END:DAYLIGHT
BEGIN:STANDARD
TZOFFSETFROM:+0200
TZOFFSETTO:+0100
TZNAME:CET
DTSTART:20181028T010000
END:STANDARD
END:VTIMEZONE
BEGIN:VEVENT
DTSTART;TZID="Europe/Warsaw":20180428T093000
DTEND;TZID="Europe/Warsaw":20180428T100000
DTSTAMP:20260420T020659
CREATED:20180426T140831Z
LAST-MODIFIED:20180426T141230Z
UID:9324-1524907800-1524909600@gckgrodek.pl
SUMMARY:POWITANIE POCIĄGU
DESCRIPTION:Serdecznie zapraszamy wszystkich mieszkańców gminy Gródek na przywitanie pociągu weekendowego relacji Gródek – Waliły\, który po raz kolejny będzie kursować od 28.04 – 6.05.2018 r. codziennie od 12.05 – 28.10.2018 tylko w weekendy (6) (7). Przejazd inauguracyjny – 28 kwietnia\, przyjazd do Walił Stacji ok. 9.48. Zapraszamy! \n
URL:https://gckgrodek.pl/wydarzenie/powitanie-pociagu/
LOCATION:Waliły Stacja\, Gródek\, Podlaskie\, 16-040\, Polska
CATEGORIES:Imprezy plenerowe
ATTACH;FMTTYPE=image/jpeg:https://gckgrodek.pl/wp-content/uploads/2018/04/plakat_powitanie.jpg
ORGANIZER;CN="Gminne%20Centrum%20Kultury%20w%20Gr%C3%B3dku":MAILTO:biuro@gckgrodek.pl
END:VEVENT
END:VCALENDAR