BEGIN:VCALENDAR
VERSION:2.0
PRODID:-//Gminne Centrum Kultury w Gródku - ECPv4.9.5//NONSGML v1.0//EN
CALSCALE:GREGORIAN
METHOD:PUBLISH
X-WR-CALNAME:Gminne Centrum Kultury w Gródku
X-ORIGINAL-URL:https://gckgrodek.pl
X-WR-CALDESC:Events for Gminne Centrum Kultury w Gródku
BEGIN:VTIMEZONE
TZID:"Europe/Warsaw"
BEGIN:DAYLIGHT
TZOFFSETFROM:+0100
TZOFFSETTO:+0200
TZNAME:CEST
DTSTART:20190331T010000
END:DAYLIGHT
BEGIN:STANDARD
TZOFFSETFROM:+0200
TZOFFSETTO:+0100
TZNAME:CET
DTSTART:20191027T010000
END:STANDARD
END:VTIMEZONE
BEGIN:VEVENT
DTSTART;TZID="Europe/Warsaw":20190427T095000
DTEND;TZID="Europe/Warsaw":20190427T103000
DTSTAMP:20260420T033018
CREATED:20190424T150633Z
LAST-MODIFIED:20190424T150633Z
UID:12277-1556358600-1556361000@gckgrodek.pl
SUMMARY:POWITANIE POCIĄGU WEEKENDOWEGO
DESCRIPTION:Wójt Gminy Gródek oraz Gminne Centrum Kultury w Gródku serdecznie zapraszają Mieszkańców Gminy Gródek na powitanie pociągu weekendowego relacji Białystok – Waliły. 27 kwietnia (sobota)\, godz. 9.50 – teren byłego dworca PKP Waliły. \nPociąg kursuje od 27.04 – 5.05.2019 r. codziennie\, natomiast od 11.05 – 29.09.2019 r. tylko w weekendy. \n
URL:https://gckgrodek.pl/wydarzenie/powitanie-pociagu-weekendowego/
LOCATION:Waliły Stacja\, Gródek\, Podlaskie\, 16-040\, Polska
CATEGORIES:Imprezy plenerowe
ATTACH;FMTTYPE=image/jpeg:https://gckgrodek.pl/wp-content/uploads/2019/04/plakat_powitanie-—-kopia.jpg
ORGANIZER;CN="Gminne%20Centrum%20Kultury%20w%20Gr%C3%B3dku":MAILTO:biuro@gckgrodek.pl
END:VEVENT
END:VCALENDAR