BEGIN:VCALENDAR
VERSION:2.0
PRODID:-//Gminne Centrum Kultury w Gródku - ECPv4.9.5//NONSGML v1.0//EN
CALSCALE:GREGORIAN
METHOD:PUBLISH
X-WR-CALNAME:Gminne Centrum Kultury w Gródku
X-ORIGINAL-URL:https://gckgrodek.pl
X-WR-CALDESC:Events for Gminne Centrum Kultury w Gródku
BEGIN:VTIMEZONE
TZID:"Europe/Warsaw"
BEGIN:DAYLIGHT
TZOFFSETFROM:+0100
TZOFFSETTO:+0200
TZNAME:CEST
DTSTART:20180325T010000
END:DAYLIGHT
BEGIN:STANDARD
TZOFFSETFROM:+0200
TZOFFSETTO:+0100
TZNAME:CET
DTSTART:20181028T010000
END:STANDARD
BEGIN:DAYLIGHT
TZOFFSETFROM:+0100
TZOFFSETTO:+0200
TZNAME:CEST
DTSTART:20190331T010000
END:DAYLIGHT
BEGIN:STANDARD
TZOFFSETFROM:+0200
TZOFFSETTO:+0100
TZNAME:CET
DTSTART:20191027T010000
END:STANDARD
END:VTIMEZONE
BEGIN:VEVENT
DTSTART;TZID="Europe/Warsaw":20181231T230000
DTEND;TZID="Europe/Warsaw":20190101T010000
DTSTAMP:20260420T033928
CREATED:20181205T160658Z
LAST-MODIFIED:20181205T160658Z
UID:11432-1546297200-1546304400@gckgrodek.pl
SUMMARY:POWITANIE NOWEGO 2019 ROKU W GRÓDKU
DESCRIPTION:Wójt Gminy Gródek oraz Gminne Centrum Kultury w Gródku serdecznie zapraszają Mieszkańców i Gości na wspólne powitanie Nowego Roku! \nStartujemy o godz. 23.00 na placu gminnej targowicy (rynek).\nImprezę poprowadzi zespół LIDER z Białegostoku. \nPrzed północą\, krótkie przemówienie wygłoszą włodarze naszej gminy. O północy fajerwerki i symboliczna lampka szampana! \nZakończenie godz. 1.00. \nPrzypominamy\, że na terenie targowicy obowiązuje zakaz odpalania fajerwerków. \n
URL:https://gckgrodek.pl/wydarzenie/powitanie-nowego-2019-roku-w-grodku/
LOCATION:Targowica Gminna\, ul. A. i G. Chodkiewiczów\, Gródek\, 16-040\, Polska
CATEGORIES:Imprezy plenerowe
ATTACH;FMTTYPE=image/jpeg:https://gckgrodek.pl/wp-content/uploads/2018/12/Bez-nazwy-1-—-kopia.jpg
ORGANIZER;CN="Gminne%20Centrum%20Kultury%20w%20Gr%C3%B3dku":MAILTO:biuro@gckgrodek.pl
END:VEVENT
END:VCALENDAR