BEGIN:VCALENDAR
VERSION:2.0
PRODID:-//Gminne Centrum Kultury w Gródku - ECPv4.9.5//NONSGML v1.0//EN
CALSCALE:GREGORIAN
METHOD:PUBLISH
X-WR-CALNAME:Gminne Centrum Kultury w Gródku
X-ORIGINAL-URL:https://gckgrodek.pl
X-WR-CALDESC:Events for Gminne Centrum Kultury w Gródku
BEGIN:VTIMEZONE
TZID:"Europe/Warsaw"
BEGIN:DAYLIGHT
TZOFFSETFROM:+0100
TZOFFSETTO:+0200
TZNAME:CEST
DTSTART:20180325T010000
END:DAYLIGHT
BEGIN:STANDARD
TZOFFSETFROM:+0200
TZOFFSETTO:+0100
TZNAME:CET
DTSTART:20181028T010000
END:STANDARD
END:VTIMEZONE
BEGIN:VEVENT
DTSTART;TZID="Europe/Warsaw":20181006T190000
DTEND;TZID="Europe/Warsaw":20181006T210000
DTSTAMP:20260420T051101
CREATED:20180926T154010Z
LAST-MODIFIED:20190713T102753Z
UID:10743-1538852400-1538859600@gckgrodek.pl
SUMMARY:POKAZ FILMU "WIEŚ PŁYWAJĄCYCH KRÓW"
DESCRIPTION:Zapraszamy na pokaz filmu: “Wieś pływających krów”. Zdjęcia do filmu były realizowane we wsi Podozierany z naszej gminy\, a także w Berlinie i w Brandenburgii. W filmie biorą udział mieszkańcy Podozieran. \nPo pokazie odbędzie się spotkanie reżyserką oraz aktorami. \n6 października\, godz. 19.00\, sala widowiskowa GCK w Gródku. \n  \n \nWIEŚ PŁYWAJĄCYCH KRÓW \nFilm dokumentalny w reż. Katarzyny Trzaski\nDługość filmu: 78 min\nFormat: HD\, DCP\nData ukończenia: styczeń 2018\nPremiera festiwalowa: sierpień 2018\nMiędzynarodowy Festiwal Filmowy Nowe Horyzonty Wrocław sekcja „Odkrycia”\nZwiastun 3 min: https://vimeo.com/154306433\nStrona filmu: https://www.facebook.com/SwimmingCowsDocumentary/ \nSTRESZCZENIE\nTrójka uduchowionych i ekologicznie świadomych młodych Berlińczyków – Elle\, Mario i Jon\, w ramach wakacyjnej wyprawy a także poszukiwań miejsc\, gdzie ludzie żyją w zgodzie z naturą\, zwiedza wschód Polski i trafia na przepiękną podlaską wieś\, gdzie wynajmują stary drewniany dom od miejscowego gospodarza\, zajmującego się hodowla krów – pana Stanisława. Przybysze z Berlina medytują\, modlą się do księżyca\, kapią nago przy studni\, współczują zwierzętom hodowlanym\, jedzą warzywa wygrzebane ze śmietnika\, w ramach oszczędzania pożywienia na ziemi.\nDla miejscowych są bardziej egzotyczni\, niż jakiekolwiek osoby znane im z telewizji i filmów. Czy mimo bariery komunikacyjnej i olbrzymiej kulturowej przepaści jest możliwe porozumienie pomiędzy dzisiejszym hipisami i rolnikami z Podlasia? Co to dzisiaj znaczy – być blisko natury? \nNowa wizja ekologicznej przyszłości kontra stara podlaska tradycja\, a w tle ludzkie radości i dramaty oraz dużo humoru i piękna strona wizualna. \nTWÓRCY I EKIPA \nScenariusz i reżyseria\, producent – Katarzyna Trzaska\nUrodzona w Toruniu\, absolwentka filologii angielskiej UMK w Toruniu; studiowała reżyserię filmową na Wydziale Radia i Telewizji Uniwersytetu Śląskiego w Katowicach.\nAutorka nagradzanych na całym świecie filmów dokumentalnych „10 lat do Nashville” oraz „Maksimum przyjemności”. Autorka scenariuszy i reżyserka programów telewizyjnych (m.in. „Polacy z wyboru” dla stacji Canal + Discovery). Reżyserka teatru TV pt.: „Humani” oraz sztuki teatralnej na podstawie filmu „Mulholland Drive” Davida Lyncha w Teatrze im. Wilama Horzycy w Toruniu.\nMieszkanka Warszawy; jej ojciec urodził się we wsi Brzostowo nad Biebrzą\, obecnie na terenie Biebrzańskiego Parku Narodowego – stąd zainteresowanie tymi terenami.\nhttp://www.polishdocs.pl/pl/rezyser/1440/katarzyna_trzaska \nAutor zdjęć Andrzej Wojciechowski\nAutor zdjęć do ponad 20 filmów dokumentalnych i wielu fabularnych\, m.in.: „Moje córki krowy”\, „Plan B” i „Zabawa\, zabawa” reż. Kinga Dembska\, „Noc Walpurgii” reż. Marcin Bortkiewicz\, „Zaślepiona” reż. Katarzyna Klimkiewicz \nMontaż Marek Kucharski\nArtysta multidyscyplinarny\, absolwent ASP w Poznaniu\, wydział fotografiki oraz montażu w Wyższej Szkole Filmowej w Łodzi. \nMuzyka oryginalna: Bart Pałyga\nWiolonczelista\, multiinstrumentalista\, improwizator. Specjalizuje się w grze na kilkunastu instrumentach smyczkowych i etnicznych z całego świata. Członek i współzałożyciel wielu zespołów etnicznych i etniczno-rockowych. Obecnie w duecie z Karoliną Cichą\, z którą wydał płyty „Wieloma językami” oraz „Płyta tatarska”. \nII operator obrazu: Kacper Czubak\nDźwięk na planie: Anna Rok\, Robert Kubik\nUdźwiękowienie: Agata Chodyra\nKorekcja barwna: Aleksandra Kraus\nKierownik produkcji: Aleksander Mielnicki\nAsystent operatora obrazu: Karol Masiarz \nPRODUCENCI \nProducent: ZYGIZAGA Robert Zygmuntowski\, Katarzyna Trzaska\nKoprodukcja:\nTVP S.A. Redakcja Filmu Dokumentalnego i Reportażu TVP2 Marta Dużbabel\nFundacja TUMULT Marek Żydowicz\nBraidmade Films Sp. z o.o. Monika Braid\nFilm jest współfinansowany przez Polski Instytut Sztuki Filmowej. \nFilm „Wieś pływających krów” otrzymał:\n– wsparcie na etapie rozwoju projektu od Ministra Kultury i Dziedzictwa Narodowego – Stypendium Rozwoju Twórczości\,\n– stypendium artystyczne Marszałka Województwa Podlaskiego na rok 2013 (rozwój projektu)\n– był rozwijany na warsztatach dokumentalnych DOK LAB Poland \nZdjęcia do filmu były realizowane we wsiach: Podozierany\, Jałowka\, Brzostowo znajdujących się na terenie woj. podlaskiego\, a także w Berlinie i w Brandenburgii. \nKONTAKT:\nKatarzyna Trzaska\nemail: katarzynatrzaska@10g.pl \n  \n
URL:https://gckgrodek.pl/wydarzenie/pokaz-filmu-wies-plywajacych-krow/
LOCATION:Gminne Centrum Kultury Gródku\, ul. A. i G. Chodkiewiczów 4\, Gródek\, 16-040
CATEGORIES:Kino
ATTACH;FMTTYPE=image/jpeg:https://gckgrodek.pl/wp-content/uploads/2018/09/WIES_zaproszenie_GRODEK-3.jpg
ORGANIZER;CN="Gminne%20Centrum%20Kultury%20w%20Gr%C3%B3dku":MAILTO:biuro@gckgrodek.pl
END:VEVENT
END:VCALENDAR