BEGIN:VCALENDAR
VERSION:2.0
PRODID:-//Gminne Centrum Kultury w Gródku - ECPv4.9.5//NONSGML v1.0//EN
CALSCALE:GREGORIAN
METHOD:PUBLISH
X-WR-CALNAME:Gminne Centrum Kultury w Gródku
X-ORIGINAL-URL:https://gckgrodek.pl
X-WR-CALDESC:Events for Gminne Centrum Kultury w Gródku
BEGIN:VTIMEZONE
TZID:"Europe/Warsaw"
BEGIN:DAYLIGHT
TZOFFSETFROM:+0100
TZOFFSETTO:+0200
TZNAME:CEST
DTSTART:20260329T010000
END:DAYLIGHT
BEGIN:STANDARD
TZOFFSETFROM:+0200
TZOFFSETTO:+0100
TZNAME:CET
DTSTART:20261025T010000
END:STANDARD
END:VTIMEZONE
BEGIN:VEVENT
DTSTART;TZID="Europe/Warsaw":20260424T100000
DTEND;TZID="Europe/Warsaw":20260424T150000
DTSTAMP:20260422T082825
CREATED:20260313T084809Z
LAST-MODIFIED:20260318T102151Z
UID:18920-1777024800-1777042800@gckgrodek.pl
SUMMARY:PIKTOGRAMY 2026
DESCRIPTION:Miło nam poinformować\, że zostaliśmy gospodarzami Przesłuchań Powiatowych VI WOJEWÓDZKIEGO PRZEGLĄDU AMATORSKIEJ TWÓRCZOŚCI TEATRALNEJ i SZTUK WIZUALNYCH  „PIKtoGRAmy” 2026\, którego organizatorem jest Podlaski Instytut Kultury.  \nKategorie artystyczne: \nMistrzowie Recytacji i Mistrzowie Piosenki\n\nKategorie wiekowe w każdej kategorii artystycznej: \n\ndzieci w wieku przedszkolnym;\ndzieci: uczniowie klas 1-3 szkoły podstawowej;\ndzieci: uczniowie klas 4-6 szkoły podstawowej;\nmłodzież: uczniowie klas 7-8 szkoły podstawowej.\n\nMistrzowie Recytacji \n\nUczestnicy przygotowują interpretację jednego utworu (wiersza lub fragment prozy) związany z tematem przewodnim.\nCzas prezentacji nie może przekroczyć 5 minut.\nDo prezentacji utworu nie ma możliwości użycia mikrofonu (oceniana jest emisja).\n\nMistrzowie Piosenki  \n\nUczestnik może śpiewać z osobą akompaniującą\, z podkładem muzycznym lub a cappella\, wybór zaznacza w karcie zgłoszenia.\nJeśli uczestnik wybiera śpiew z podkładem muzycznym\, podkład należy dostarczyć do Organizatora Przesłuchań Powiatowych do dnia 22.04.2026 instruktora Grzegorza Karpowicza osobiście lub na adres e-mail gkarpowicz@gckgrodek.pl.\n\nCzekamy na zgłoszenia – Gródek\, Michałowo\, Zabłudów\, Supraśl\, Wasilków\, Juchnowiec Kościelny\, Grabówka \nTemat przewodni: „Jawa to czy sen”.\nMotto tegorocznej edycji pochodzi z książki “Dom dzienny\, dom nocny” autorstwa Olgi Tokarczuk: “Sen potrafi budować łagodne granice między wydarzeniami. Nic nie może się zacząć ani skończyć naprawdę\, dopóki kropki nad dniem nie postawi sen.”\n\nWarunkiem uczestnictwa jest dostarczenie wypełnionej karty zgłoszeniowej do siedziby Organizatora przesłuchań powiatowych – Gminnego Centrum Kultury w Gródku\, ul. A. i G. Chodkiewiczów 4\, 16-040 Gródek listownie lub skanem na e-mail: rkulesza@gckgrodek.pl w nieprzekraczalnym terminie 20.04.2026 r. (w przypadku wysyłania skanu\, oryginał należy dostarczyć w dniu przesłuchań).\n\nEliminacje powiatowe odbędą się 24.04.2026 r. o godz. 10.00 w sali widowiskowej Gminnego Centrum Kultury w Gródku przy ul. A. i G. Chodkiewiczów 4\, 16-040 Gródek.\n\nDO POBRANIA:\n\nRegulamin PDF (441 kb)\nKarta zgłoszeniowa DOCX\, 133 kb\n\n
URL:https://gckgrodek.pl/wydarzenie/piktogramy-2026/
LOCATION:Gminne Centrum Kultury Gródku\, ul. A. i G. Chodkiewiczów 4\, Gródek\, 16-040
CATEGORIES:Koncerty
ATTACH;FMTTYPE=image/jpeg:https://gckgrodek.pl/wp-content/uploads/2026/03/plakat_2026_PIKTOGRAMY_powiatowe_Gródek-—-kopia-2.jpg
ORGANIZER;CN="Gminne%20Centrum%20Kultury%20w%20Gr%C3%B3dku":MAILTO:biuro@gckgrodek.pl
END:VEVENT
END:VCALENDAR