BEGIN:VCALENDAR
VERSION:2.0
PRODID:-//Gminne Centrum Kultury w Gródku - ECPv4.9.5//NONSGML v1.0//EN
CALSCALE:GREGORIAN
METHOD:PUBLISH
X-WR-CALNAME:Gminne Centrum Kultury w Gródku
X-ORIGINAL-URL:https://gckgrodek.pl
X-WR-CALDESC:Events for Gminne Centrum Kultury w Gródku
BEGIN:VTIMEZONE
TZID:"Europe/Warsaw"
BEGIN:DAYLIGHT
TZOFFSETFROM:+0100
TZOFFSETTO:+0200
TZNAME:CEST
DTSTART:20180325T010000
END:DAYLIGHT
BEGIN:STANDARD
TZOFFSETFROM:+0200
TZOFFSETTO:+0100
TZNAME:CET
DTSTART:20181028T010000
END:STANDARD
END:VTIMEZONE
BEGIN:VEVENT
DTSTART;TZID="Europe/Warsaw":20181027T170000
DTEND;TZID="Europe/Warsaw":20181027T190000
DTSTAMP:20260420T081317
CREATED:20181016T122744Z
LAST-MODIFIED:20181016T122811Z
UID:10862-1540659600-1540666800@gckgrodek.pl
SUMMARY:OBRZĘDY I ZWYCZAJE ZIEMI GRÓDECKIEJ
DESCRIPTION:Serdecznie zapraszamy na prezentację scenek obrzędowych przybliżających zwyczaje i tradycje Ziemi Gródeckiej pn. “Obrzędy i zwyczaje Ziemi Gródeckiej” w wykonaniu: zespołów ludowych działających przy GCK\, uczniów ze Szkoły Podstawowej w Gródku i Niepublicznej Szkoły Podstawowej w Załukach oraz Koła Gospodyń Wiejskich „Ale Babki” ze Słuczanki. Gościnnie wystąpi grupa CZOBATY z Wołkowyska (Białoruś). Wstęp wolny! \n
URL:https://gckgrodek.pl/wydarzenie/obrzedy-i-zwyczaje-ziemi-grodeckiej/
LOCATION:Gminne Centrum Kultury Gródku\, ul. A. i G. Chodkiewiczów 4\, Gródek\, 16-040
CATEGORIES:Spotkania
ATTACH;FMTTYPE=image/jpeg:https://gckgrodek.pl/wp-content/uploads/2018/10/plakat_obrzedy_18-—-kopia.jpg
ORGANIZER;CN="Gminne%20Centrum%20Kultury%20w%20Gr%C3%B3dku":MAILTO:biuro@gckgrodek.pl
END:VEVENT
END:VCALENDAR