BEGIN:VCALENDAR
VERSION:2.0
PRODID:-//Gminne Centrum Kultury w Gródku - ECPv4.9.5//NONSGML v1.0//EN
CALSCALE:GREGORIAN
METHOD:PUBLISH
X-WR-CALNAME:Gminne Centrum Kultury w Gródku
X-ORIGINAL-URL:https://gckgrodek.pl
X-WR-CALDESC:Events for Gminne Centrum Kultury w Gródku
BEGIN:VTIMEZONE
TZID:"Europe/Warsaw"
BEGIN:DAYLIGHT
TZOFFSETFROM:+0100
TZOFFSETTO:+0200
TZNAME:CEST
DTSTART:20190331T010000
END:DAYLIGHT
BEGIN:STANDARD
TZOFFSETFROM:+0200
TZOFFSETTO:+0100
TZNAME:CET
DTSTART:20191027T010000
END:STANDARD
END:VTIMEZONE
BEGIN:VEVENT
DTSTART;TZID="Europe/Warsaw":20191026T170000
DTEND;TZID="Europe/Warsaw":20191026T183000
DTSTAMP:20260421T112411
CREATED:20191011T075410Z
LAST-MODIFIED:20191011T075410Z
UID:13454-1572109200-1572114600@gckgrodek.pl
SUMMARY:OBRZĘDY I ZWYCZAJE ZIEMI GRÓDECKIEJ
DESCRIPTION:W programie:\n– prezentacja scenek obrzędowych przybliżających zwyczaje i tradycje Ziemi Gródeckiej w wyk. uczniów Szkoły Podstawowej w Gródku oraz zespołów działających w Gminnym Centrum Kultury w Gródku;\n– rozstrzygnięcie II edycji Nagrody Wójta Gminy Gródek „Biały Gryf”;\n– podsumowanie projektu „Obrzędy i zwyczaje Ziemi Gródeckiej”; \n
URL:https://gckgrodek.pl/wydarzenie/obrzedy-i-zwyczaje-ziemi-grodeckiej-2/
LOCATION:Gminne Centrum Kultury Gródku\, ul. A. i G. Chodkiewiczów 4\, Gródek\, 16-040
CATEGORIES:Spotkania
ATTACH;FMTTYPE=image/jpeg:https://gckgrodek.pl/wp-content/uploads/2019/10/plakat_obrzedy_19-—-kopia.jpg
ORGANIZER;CN="Gminne%20Centrum%20Kultury%20w%20Gr%C3%B3dku":MAILTO:biuro@gckgrodek.pl
END:VEVENT
END:VCALENDAR