BEGIN:VCALENDAR
VERSION:2.0
PRODID:-//Gminne Centrum Kultury w Gródku - ECPv4.9.5//NONSGML v1.0//EN
CALSCALE:GREGORIAN
METHOD:PUBLISH
X-WR-CALNAME:Gminne Centrum Kultury w Gródku
X-ORIGINAL-URL:https://gckgrodek.pl
X-WR-CALDESC:Events for Gminne Centrum Kultury w Gródku
BEGIN:VTIMEZONE
TZID:"Europe/Warsaw"
BEGIN:DAYLIGHT
TZOFFSETFROM:+0100
TZOFFSETTO:+0200
TZNAME:CEST
DTSTART:20230326T010000
END:DAYLIGHT
BEGIN:STANDARD
TZOFFSETFROM:+0200
TZOFFSETTO:+0100
TZNAME:CET
DTSTART:20231029T010000
END:STANDARD
END:VTIMEZONE
BEGIN:VEVENT
DTSTART;TZID="Europe/Warsaw":20231107T094000
DTEND;TZID="Europe/Warsaw":20231107T094000
DTSTAMP:20260422T101016
CREATED:20231019T130438Z
LAST-MODIFIED:20231019T130448Z
UID:17037-1699350000-1699350000@gckgrodek.pl
SUMMARY:NIEZGODA.JPG | TEATR POLSKA
DESCRIPTION:godz. 09:40\ngodz. 11:35\n(każdy spektakl trwa 1 godz. lekcyjną- 45 min)\n7 listopada (wtorek) 2023\nMiejsce: sala lekcyjna Szkoły Podstawowej w Gródku\nWSTĘP WOLNY!\nO spektaklu „niezgoda.jpg”:\n—-\nTen spektakl NIE JEST o:\n• roszczeniowych nastolatkach\n• kontrowersyjnych tematach\n• perspektywie dorosłych na świat młodych\n\nTen spektakl JEST:\n• o tym momencie\, gdy czujesz się niewidoczny/a dla innych\n• o przyjaźni\, która pojawia się znikąd\n• o odpowiedzialności za swoje czyny\nHistoria chłopaka i dziewczyny – zwykłych nastolatków ze zwykłej szkoły. Może znasz tę dziewczynę\, albo sama nią jesteś. Może jesteś tym chłopakiem\, ale czasem ciężko Ci nim być.\nBohaterowie spektaklu wykrzykują swoje marzenia o buncie\, opowiadają sobie skrywane dotąd tajemnice\, a czasem tylko siedzą i gapią się w okno\, jakby na coś czekali. „niezgoda.jpg” to spektakl\, który opowiada o przyjaźni i o tym\, kiedy czujesz\, że ją tracisz; o różnicy między tym\, kim jesteś\, a tym\, jak widzą Cię inni; o przekraczaniu granic i tych chwilach\, które następują zaraz po\, a których nie da się przewinąć wstecz\, jak ulubionego kawałka z playlisty.\nSpektakl powstał we współpracy z młodzieżą – jego istotną częścią były dwutygodniowe warsztaty z uczniami i uczennicami Szkoły Podstawowej nr 4 w Sosnowcu\, stanowiące inspirację do powstania tekstu sztuki. Przedstawienie należy do nurtu „teatru w klasie” i jest grane w salach lekcyjnych\, po to\, żebyśmy mogli spotykać się z uczniami i uczennicami w naturalnym dla nich środowisku szkoły. Integralnym elementem pokazów są także warsztaty pedagogiczno-teatralne dla całej klasy\, których celem jest zgłębienie tematyki spektaklu w atmosferze zaufania i twórczej współpracy.\n\nObsada: Natalia Bielecka\, Paweł Charyton\n\nTwórcy i pozostałe informacje:\n\nReżyseria\nJustyna Łagowska\n\nTekst i dramaturgia\nDaria Sobik\n\nRuch\nMilena Czarnik\n\nMuzyka\nsprzęga\n\nDziałania pedagogiczno-teatralne\nAgata Kędzia\n\nKonsultacje psychologiczne\nAnna Mandat\n\nMłodzieżowa Grupa Ekspercka ze Szkoły Podstawowej nr 4 w Sosnowcu\nNatalia Białoskórska\, Mateusz Brych\, Dziyana Dzeulina\, Sebastian Gawroński\, Antoni Jędrysik\, Agata Koścień\, Klaudiusz Kurek\, Weronika Łosik\, Oliwier Magierowski\, Julia Nalewajko\, Malwina Opuchlik\, Martyna Ornat-Wójtowicz\, Daniel Rozpara\, Zuzanna Tabor\, Marcel Walor\, Wiktor Wirek\, Mateusz Zobek\, Zuzanna Żuchowska\n\nPremiera\n30 września 2022 r.\n\nCzas trwania spektaklu\n45 min.\n\nCzas trwania warsztatów\n45 min.\n\nWiek\n12+ (uczniowie siódmych i ósmych klas oraz starsi)\n
URL:https://gckgrodek.pl/wydarzenie/niezgoda-jpg-teatr-polska/
LOCATION:Szkoła Podstawowa im. Partyzantów Braci M. i A. Chrzanowskich\, ul. Chodkiewiczów 18\, Gródek\, podlaskie\, 16-040\, Polska
CATEGORIES:Teatr
ATTACH;FMTTYPE=image/jpeg:https://gckgrodek.pl/wp-content/uploads/2023/10/niezgoda_jpg_B2print-—-kopia-2.jpg
ORGANIZER;CN="Gminne%20Centrum%20Kultury%20w%20Gr%C3%B3dku":MAILTO:biuro@gckgrodek.pl
END:VEVENT
END:VCALENDAR