BEGIN:VCALENDAR
VERSION:2.0
PRODID:-//Gminne Centrum Kultury w Gródku - ECPv4.9.5//NONSGML v1.0//EN
CALSCALE:GREGORIAN
METHOD:PUBLISH
X-WR-CALNAME:Gminne Centrum Kultury w Gródku
X-ORIGINAL-URL:https://gckgrodek.pl
X-WR-CALDESC:Events for Gminne Centrum Kultury w Gródku
BEGIN:VTIMEZONE
TZID:"Europe/Warsaw"
BEGIN:DAYLIGHT
TZOFFSETFROM:+0100
TZOFFSETTO:+0200
TZNAME:CEST
DTSTART:20240331T010000
END:DAYLIGHT
BEGIN:STANDARD
TZOFFSETFROM:+0200
TZOFFSETTO:+0100
TZNAME:CET
DTSTART:20241027T010000
END:STANDARD
END:VTIMEZONE
BEGIN:VEVENT
DTSTART;TZID="Europe/Warsaw":20240412T170000
DTEND;TZID="Europe/Warsaw":20240412T180000
DTSTAMP:20260422T101043
CREATED:20240404T094320Z
LAST-MODIFIED:20240404T094320Z
UID:17171-1712941200-1712944800@gckgrodek.pl
SUMMARY:MAŁA PASJA\, CZYLI HISTORIA O PSIE PANA JEZUSA
DESCRIPTION:Zapraszamy do Gródka na niesowity spektakl\, który gramy od 17 lat. „Mała Pasja\, czyli historia o psie Pana Jezusa” to wyjątkowa uniwersalna historia o wielkiej przyjaźni pieska Burka i Jezusa… zrealizowana na podstawie apokryficznego fragmentu “Chłopów” Reymonta. Zagramy ją w Gminnym Centrum Kultury w Gródku (ul. A. i G. Chodkiewiczów 4 ) w piątek 12 kwietnia 2024 roku o godz. 17:00. Po spektaklu chętni mogą zostać na spotkanie z aktorami. Udział w wydarzeniu jest bezpłatny. Dofinansowano ze środków budżetu Powiatu Białostockiego.\n\nO spektaklu:\nScenariusz spektaklu został oparty na apokryficznym fragmencie CHŁOPÓW Władysława Reymonta i sprowadza się do opowieści\, którą niespiesznie snuje biedny człowiek\, ciągnący własnoręcznie wóz z całym swoim mizernym dobytkiem.\nIntymna historia o własnym zagubionym piesku stopniowo przeradza się w opowieść o pierwszym udomowionym psie Burku\, który\, towarzysząc Jezusowi w jego wędrówkach po świecie\, pogodził się z rodzajem ludzkim i już na zawsze został przyjacielem człowieka.\n„Mała Pasja…” to subtelna\, wzruszająca\, a czasem też dowcipna historia\, która dzięki harmonii użytych środków teatralnych staje się jednorodną w tonie\, uniwersalną przypowieścią o ludzkim istnieniu\, cierpieniu i wielkiej przyjaźni.\n„Mała Pasja…” jest spektaklem impresaryjnym. Przedstawienie było grane na ponad 30 festiwalach w Polsce i Europie dla różnorodnej publiczności – zarówno dziecięcej jak i dorosłej. Spektakl pojawił się na kilkunastu profesjonalnych scenach w całej Polsce. W Białymstoku swoją premierę miał jeszcze w Teatrze Szkolnym białostockiej Akademii Teatralnej oraz na deskach Teatru Dramatycznego w Białymstoku. Przez blisko trzy lata był w stałym repertuarze legendarnego TEATRU WIERSZALIN z Supraśla.\nSpektakl nagrodzony na 11 Międzynarodowym Festiwalu ZDARZENIA im. Józefa Szajny w Tczewie Nagrodą Specjalną – zaproszeniem do Rzymu na Roma Teatro Festival.\n\nCzas trwania: 55 minut (bez przerwy) + 35 minut spotkanie i warsztaty\nScenariusz i reżyseria: Paulina Karczewska\, Mateusz Tymura\nWystępują: Mateusz Tymura\, Paulina Karczewska\nPlakat: Lucjusz Sawicki\n—\nZadanie „Mała Pasja\, czyli historia o Psie Pana Jezusa – spektakle i warsztaty dla mieszkańców Podlasia” dofinansowano ze środków budżetu Powiatu Białostockiego \n\n\n
URL:https://gckgrodek.pl/wydarzenie/mala-pasja-czyli-historia-o-psie-pana-jezusa/
LOCATION:Gminne Centrum Kultury Gródku\, ul. A. i G. Chodkiewiczów 4\, Gródek\, 16-040
CATEGORIES:Teatr
ATTACH;FMTTYPE=image/jpeg:https://gckgrodek.pl/wp-content/uploads/2024/04/Pasja_Magda_12kwietnia-1.jpg
END:VEVENT
END:VCALENDAR