BEGIN:VCALENDAR
VERSION:2.0
PRODID:-//Gminne Centrum Kultury w Gródku - ECPv4.9.5//NONSGML v1.0//EN
CALSCALE:GREGORIAN
METHOD:PUBLISH
X-WR-CALNAME:Gminne Centrum Kultury w Gródku
X-ORIGINAL-URL:https://gckgrodek.pl
X-WR-CALDESC:Events for Gminne Centrum Kultury w Gródku
BEGIN:VTIMEZONE
TZID:"Europe/Warsaw"
BEGIN:DAYLIGHT
TZOFFSETFROM:+0100
TZOFFSETTO:+0200
TZNAME:CEST
DTSTART:20250330T010000
END:DAYLIGHT
BEGIN:STANDARD
TZOFFSETFROM:+0200
TZOFFSETTO:+0100
TZNAME:CET
DTSTART:20251026T010000
END:STANDARD
END:VTIMEZONE
BEGIN:VEVENT
DTSTART;TZID="Europe/Warsaw":20251026T150000
DTEND;TZID="Europe/Warsaw":20251026T170000
DTSTAMP:20260422T113851
CREATED:20251022T120031Z
LAST-MODIFIED:20251022T120043Z
UID:17742-1761490800-1761498000@gckgrodek.pl
SUMMARY:MAŁA PASJA\, CZYLI HISTORIA O PSIE PANA JEZUSA
DESCRIPTION:Scenariusz spektaklu został oparty na fragmencie „Chłopów” Władysława Reymonta i sprowadza się do opowieści\, którą niespiesznie snuje biedny człowiek\, własnoręcznie ciągnący wóz z całym swoim mizernym dobytkiem. Historia o zagubionym piesku stopniowo przechodzi w opowieść o pierwszym udomowionym psie\, który towarzysząc Jezusowi w jego wędrówkach po świecie pogodził się z rodzajem ludzkim i już na zawsze został przyjacielem człowieka.\n„Mała Pasja…” to subtelna\, wzruszająca i prosta opowieść\, która dzięki harmonii użytych środków teatralnych staje się jednorodną w tonie uniwersalną przypowieścią o ludzkim istnieniu\, cierpieniu i przyjaźni. „Mała Pasja…” jest przedstawieniem impresaryjnym. Do tej pory spektakl był grany wielokrotnie dla różnorodnej publiczności – zarówno dziecięcej\, jak i dorosłej na wielu festiwalach w kraju i za granicą. Spektakl grany był również na deskach Teatru Dramatycznego w Białymstoku\, a przez blisko trzy lata znajdował się w stałym repertuarze Teatru Wierszalin z Supraśla.\nObecnie „Mała Pasja” grana jest z odtworzoną w 2025 roku scenografią\, w dużej mierze stworzoną z elementów ocalałych po pożarze\, który strawił siedzibę teatru w 2024 roku. Nowy wóz został odbudowany przez Paulinę Karczewską w ramach pracy dyplomowej na kierunku technologia teatru lalek\, we współpracy ze Zbigniewem Rusiłowiczem i Mateuszem Tymurą.Scenariusz i reżyseria: Paulina Karczewska\, Mateusz TymuraWystępują: Mateusz Tymura\, Paulina KarczewskaŚwiatła i technika: Zbigniew Rusiłowicz\n—Dofinansowano ze środków Ministerstwo Kultury i Dziedzictwa Narodowego w ramach programu Narodowe Centrum Kultury – Kultura Interwencje. Edycja 2025\nZadanie publiczne współfinansowane ze środków Województwa Podlaskiego.\n
URL:https://gckgrodek.pl/wydarzenie/mala-pasja-czyli-historia-o-psie-pana-jezusa-2/
LOCATION:Gminne Centrum Kultury Gródku\, ul. A. i G. Chodkiewiczów 4\, Gródek\, 16-040
CATEGORIES:Teatr
ATTACH;FMTTYPE=image/jpeg:https://gckgrodek.pl/wp-content/uploads/2025/10/Plakat-MAŁA-PASJA_GRÓDEK_1530-1-—-kopia.jpg
ORGANIZER;CN="Gminne%20Centrum%20Kultury%20w%20Gr%C3%B3dku":MAILTO:biuro@gckgrodek.pl
END:VEVENT
END:VCALENDAR