BEGIN:VCALENDAR
VERSION:2.0
PRODID:-//Gminne Centrum Kultury w Gródku - ECPv4.9.5//NONSGML v1.0//EN
CALSCALE:GREGORIAN
METHOD:PUBLISH
X-WR-CALNAME:Gminne Centrum Kultury w Gródku
X-ORIGINAL-URL:https://gckgrodek.pl
X-WR-CALDESC:Events for Gminne Centrum Kultury w Gródku
BEGIN:VTIMEZONE
TZID:"Europe/Warsaw"
BEGIN:DAYLIGHT
TZOFFSETFROM:+0100
TZOFFSETTO:+0200
TZNAME:CEST
DTSTART:20240331T010000
END:DAYLIGHT
BEGIN:STANDARD
TZOFFSETFROM:+0200
TZOFFSETTO:+0100
TZNAME:CET
DTSTART:20241027T010000
END:STANDARD
END:VTIMEZONE
BEGIN:VEVENT
DTSTART;TZID="Europe/Warsaw":20240622T180000
DTEND;TZID="Europe/Warsaw":20240622T235900
DTSTAMP:20260420T111236
CREATED:20240515T133202Z
LAST-MODIFIED:20240610T113045Z
UID:17230-1719079200-1719100740@gckgrodek.pl
SUMMARY:KUPALNOCZKA 2024 W ZAŁUKACH
DESCRIPTION:\nW PROGRAMIE:\n– KONCERTY: Niezabudki\, Malwianki\, Aleksandra Kulesza\, Mirosław Turowski\, Kalina\, Rozśpiewany Gródek\, Jesienny Liść\, Vena\, Koło Gitarowe;– OBRZĘD PUSZCZANIA WIANKÓW NAD RZEKĄ SUPRAŚL– GWIAZDY WIECZORU: DOBRYJE GRAJKI\, VIESNA I METRO\nPonadto: stoiska artystów ludowych\, gastronomia oraz atrakcje dla dzieci;\n__organizatorzy: Gminne Centrum Kultury w Gródku\, Gmina Gródek\, Stowarzyszenie “Załuki nad Supraślą”;\npartnerzy: Niepubliczna SP w Załukach\, Sołectwo Załuki\, KGW Załuczanki\, OSP w Załukach.\npatronat medialny: Radio Jard\nZrealizowano dzięki dotacji Ministerstwa Spraw Wewnętrznych i Administracji.\nZadanie jest współfinansowane przez Powiat Białostocki.\n\n
URL:https://gckgrodek.pl/wydarzenie/kupalnoczka-2024-w-zalukach/
LOCATION:Załuki\, plac szkolny\, Polska
CATEGORIES:Imprezy plenerowe
ATTACH;FMTTYPE=image/jpeg:https://gckgrodek.pl/wp-content/uploads/2024/05/kupalnoczka_plakat_24-—-kopia-1.jpg
ORGANIZER;CN="Gminne%20Centrum%20Kultury%20w%20Gr%C3%B3dku":MAILTO:biuro@gckgrodek.pl
END:VEVENT
END:VCALENDAR