BEGIN:VCALENDAR
VERSION:2.0
PRODID:-//Gminne Centrum Kultury w Gródku - ECPv4.9.5//NONSGML v1.0//EN
CALSCALE:GREGORIAN
METHOD:PUBLISH
X-WR-CALNAME:Gminne Centrum Kultury w Gródku
X-ORIGINAL-URL:https://gckgrodek.pl
X-WR-CALDESC:Events for Gminne Centrum Kultury w Gródku
BEGIN:VTIMEZONE
TZID:"Europe/Warsaw"
BEGIN:DAYLIGHT
TZOFFSETFROM:+0100
TZOFFSETTO:+0200
TZNAME:CEST
DTSTART:20230326T010000
END:DAYLIGHT
BEGIN:STANDARD
TZOFFSETFROM:+0200
TZOFFSETTO:+0100
TZNAME:CET
DTSTART:20231029T010000
END:STANDARD
END:VTIMEZONE
BEGIN:VEVENT
DTSTART;TZID="Europe/Warsaw":20231119T140000
DTEND;TZID="Europe/Warsaw":20231119T150000
DTSTAMP:20260420T112059
CREATED:20231115T111229Z
LAST-MODIFIED:20231115T111229Z
UID:17063-1700402400-1700406000@gckgrodek.pl
SUMMARY:KONCERT ZESPOŁU BUDʹMO
DESCRIPTION:Gminne Centrum Kultury w Gródku oraz Fundacja Hagia Marina zapraszają na koncert zespołu Budʹmo / Будьмо z Kijowa (Ukraina)\n19 listopada (niedziela)\, godz. 14.00 – świetlica wiejska w Mieleszkach\, gm. Gródek\nWSTĘP WOLNY!\n
URL:https://gckgrodek.pl/wydarzenie/koncert-zespolu-bud%ca%b9mo/
LOCATION:Gminne Centrum Kultury Gródku\, ul. A. i G. Chodkiewiczów 4\, Gródek\, 16-040
CATEGORIES:Koncerty
ATTACH;FMTTYPE=image/jpeg:https://gckgrodek.pl/wp-content/uploads/2023/11/koncert_budzmo-—-kopia.jpg
END:VEVENT
END:VCALENDAR