BEGIN:VCALENDAR
VERSION:2.0
PRODID:-//Gminne Centrum Kultury w Gródku - ECPv4.9.5//NONSGML v1.0//EN
CALSCALE:GREGORIAN
METHOD:PUBLISH
X-WR-CALNAME:Gminne Centrum Kultury w Gródku
X-ORIGINAL-URL:https://gckgrodek.pl
X-WR-CALDESC:Events for Gminne Centrum Kultury w Gródku
BEGIN:VTIMEZONE
TZID:"Europe/Warsaw"
BEGIN:DAYLIGHT
TZOFFSETFROM:+0100
TZOFFSETTO:+0200
TZNAME:CEST
DTSTART:20250330T010000
END:DAYLIGHT
BEGIN:STANDARD
TZOFFSETFROM:+0200
TZOFFSETTO:+0100
TZNAME:CET
DTSTART:20251026T010000
END:STANDARD
END:VTIMEZONE
BEGIN:VEVENT
DTSTART;TZID="Europe/Warsaw":20250523T170000
DTEND;TZID="Europe/Warsaw":20250523T183000
DTSTAMP:20260420T094219
CREATED:20250519T075620Z
LAST-MODIFIED:20250519T075620Z
UID:17599-1748019600-1748025000@gckgrodek.pl
SUMMARY:KONCERT Z OKAZJI DNIA MATKI
DESCRIPTION:23 maja zapraszamy na Koncert z okazji Dnia Matki!Początek godz. 17.00 – Gdybalnia (plac za GCK w Gródku)Wystąpią:– Studio Wokalne – instr. Karolina Klepacka– Vena – instr. Anna Wasilewska\nWstęp wolny!\n
URL:https://gckgrodek.pl/wydarzenie/koncert-z-okazji-dnia-matki/
LOCATION:Gminne Centrum Kultury Gródku\, ul. A. i G. Chodkiewiczów 4\, Gródek\, 16-040
CATEGORIES:Imprezy plenerowe
ATTACH;FMTTYPE=image/jpeg:https://gckgrodek.pl/wp-content/uploads/2025/05/495370673_991126799838035_1092596632812611370_n.jpg
END:VEVENT
END:VCALENDAR