BEGIN:VCALENDAR
VERSION:2.0
PRODID:-//Gminne Centrum Kultury w Gródku - ECPv4.9.5//NONSGML v1.0//EN
CALSCALE:GREGORIAN
METHOD:PUBLISH
X-WR-CALNAME:Gminne Centrum Kultury w Gródku
X-ORIGINAL-URL:https://gckgrodek.pl
X-WR-CALDESC:Events for Gminne Centrum Kultury w Gródku
BEGIN:VTIMEZONE
TZID:"Europe/Warsaw"
BEGIN:DAYLIGHT
TZOFFSETFROM:+0100
TZOFFSETTO:+0200
TZNAME:CEST
DTSTART:20200329T010000
END:DAYLIGHT
BEGIN:STANDARD
TZOFFSETFROM:+0200
TZOFFSETTO:+0100
TZNAME:CET
DTSTART:20201025T010000
END:STANDARD
END:VTIMEZONE
BEGIN:VEVENT
DTSTART;TZID="Europe/Warsaw":20201108T130000
DTEND;TZID="Europe/Warsaw":20201108T192000
DTSTAMP:20260419T184014
CREATED:20201103T195056Z
LAST-MODIFIED:20201103T195126Z
UID:15773-1604840400-1604863200@gckgrodek.pl
SUMMARY:KONCERT I WARSZTATY "BLISKO CHOPINA"
DESCRIPTION:Gminne Centrum Kultury zaprasza na:\n\ngodz. 13.00 – 15.00 – warsztaty interaktywne: Agnieszka Jakubicz\, dr Maria Twarowska;\n godz. 18.00 – 19.30 – KONCERT fortepianowy w wyk. Aleksandra Dębicza\n\nZapisy TYLKO I WYŁĄCZNIE pod numerem telefonu: 85 718 01 36 (do 6 listopada). Ilość miejsc ograniczona.\nUdział w warsztatach i koncercie jest bezpłatny. Obowiązują zasady sanitarne: dezynfekcja dłoni\, dystans oraz maseczki. Bądźmy odpowiedzialni!\n\n„Blisko Chopina” to projekt Podlaskiego Instytutu Kultury w Białymstoku\, który zakłada organizację koncertów fortepianowych i interaktywnych warsztatów rodzinnych w miejscowościach pozbawionych dostępu do szerokiej gamy oferty kulturalnej. To jednocześnie popularyzacja kompozycji Fryderyka Chopina\, muzycznego dziedzictwa narodowego i jego inspiracji folklorem.\nRealizacja projektu to poszukiwania wspólnych elementów w twórczości Chopina i źródeł inspiracji tradycyjną twórczością ludowych muzykantów i śpiewaczek. Wakacyjne przygody w Szafarni i pierwszy kontakt z folklorem w czystej postaci dojrzewały w późniejszych dziełach kompozytora. Dla Podlaskiego Instytutu Kultury w Białymstoku również stały się inspiracją do działań animacyjnych w miejscowościach naszego województwa.\n\nDo udziału w projekcie zaprosiliśmy Aleksandra Dębicza – jednego z najbardziej wszechstronnych pianistów i kompozytora młodego pokolenia. Punktem wyjścia jego działalności artystycznej jest improwizacja na bazie repertuaru klasycznych mistrzów. W 2018 r. ukazał się jego trzeci album „Invention” (Warner Classic) z interpretacją twórczości J. S Bacha oraz autorskimi kompozycjami z elementami hip-hopu. „Blisko Chopina” to cykl koncertów Aleksandra Dębicza z repertuarem Fryderyka Chopina.\n\nInteraktywne warsztaty rodzinne będą wprowadzeniem do koncertu fortepianowego z repertuarem dzieł Fryderyka Chopina. Poprowadzą je dr Maria Twarowska (wieloletni pedagog Uniwersytetu Muzycznego im. F. Chopina) oraz Agnieszka Jakubicz (animator kultury w Podlaskim instytucie Kultury w Białymstoku\, tancerka w ZPiT „Kurpie Zielone”).\n\nZajęcia umuzykalniające będą szansą na zapoznanie się z rytmami mazurkowymi. Przy wykorzystaniu prostych środków wypowiedzi\, które są dzieciom najbliższe: ruch\, mowę\, śpiew\, rytm\, uczestnicy będą mogli rozwijać wrażliwość muzyczną\, uczyć się powtarzania\, słuchania i zapamiętywania.\n\nZajęcia ruchowe wprowadzą uczestników w świat dawnych zabaw ludowych. Poprzez poznanie starych melodii\, tańców i gier\, które kiedyś były rozrywką codzienną wejdziemy w świat dzieciństwa naszych dziadków oraz tradycyjnych zabawami\, z którymi mógł zetknąć się młody Frycek.\n\nDofinansowano ze środków Ministra Kultury i Dziedzictwa Narodowego pochodzących z Funduszu Promocji Kultury\, uzyskanych z dopłat ustanowionych w grach objętych monopolem państwa\, zgodnie z art. 80 ust. 1 ustawy z dnia 19 listopada 2009 r. o grach hazardowych.\n
URL:https://gckgrodek.pl/wydarzenie/koncert-i-warsztaty-blisko-chopina/
LOCATION:Gminne Centrum Kultury Gródku\, ul. A. i G. Chodkiewiczów 4\, Gródek\, 16-040
CATEGORIES:Koncerty
ATTACH;FMTTYPE=image/jpeg:https://gckgrodek.pl/wp-content/uploads/2020/11/aaa.jpg
ORGANIZER;CN="Gminne%20Centrum%20Kultury%20w%20Gr%C3%B3dku":MAILTO:biuro@gckgrodek.pl
END:VEVENT
END:VCALENDAR