BEGIN:VCALENDAR
VERSION:2.0
PRODID:-//Gminne Centrum Kultury w Gródku - ECPv4.9.5//NONSGML v1.0//EN
CALSCALE:GREGORIAN
METHOD:PUBLISH
X-WR-CALNAME:Gminne Centrum Kultury w Gródku
X-ORIGINAL-URL:https://gckgrodek.pl
X-WR-CALDESC:Events for Gminne Centrum Kultury w Gródku
BEGIN:VTIMEZONE
TZID:"Europe/Warsaw"
BEGIN:DAYLIGHT
TZOFFSETFROM:+0100
TZOFFSETTO:+0200
TZNAME:CEST
DTSTART:20200329T010000
END:DAYLIGHT
BEGIN:STANDARD
TZOFFSETFROM:+0200
TZOFFSETTO:+0100
TZNAME:CET
DTSTART:20201025T010000
END:STANDARD
END:VTIMEZONE
BEGIN:VEVENT
DTSTART;TZID="Europe/Warsaw":20200227T160000
DTEND;TZID="Europe/Warsaw":20200227T220000
DTSTAMP:20260420T080342
CREATED:20200213T104520Z
LAST-MODIFIED:20200213T110641Z
UID:14683-1582819200-1582840800@gckgrodek.pl
SUMMARY:KINO .: ZENEK :. W GRÓDKU
DESCRIPTION:BAD BOY – godz. 16.00\nreżyseria: Patryk Vega\nscenariusz: Olaf Olszewski / Patryk Vega\ngatunek: Sensacyjny\nprodukcja: Polska \npremiera: 21 lutego 2020 (Polska) / 18 lutego 2020 (świat) \nKiedy w grę wchodzi kobieta\, nawet więzy krwi przestają mieć jakiekolwiek znaczenie. Przekonają się o tym dwaj bracia\, których ścieżki życiowe rozeszły się dawno temu. Starszy Piotr (Maciej Stuhr) został policjantem\, dla młodszego Pawła (Antoni Królikowski) napady\, kradzieże i narkotyki to styl życia i chleb powszedni. Jednak bezkarność mężczyzny\, uwikłanego w przynależność do kibicowskiego gangu Twardego (Piotr Stramowski) kończy się\, kiedy za sprawą donosu ląduje w więzieniu. Piotr\, doświadczony glina\, postanawia wyciągnąć brata z celi\, w czym wspiera go nowa dziewczyna Ola (Katarzyna Zawadzka)\, adwokat znajdującą paragrafy na najtrudniejsze przypadki. Spotkanie tej trójki zmienia wszystko i inicjuje serię obfitujących w zwroty akcji wydarzeń. Paweł\, wykorzystując nadarzające się okazje\, próbuje przejąć kontrolę nad największym klubem piłkarskim w mieście. Nie dostrzega jednak\, że od dawna jest na celowniku tajnej sekcji policyjnej\, prowadzonej przez Adama (Andrzej Grabowski) i prokurator Annę (Małgorzata Kożuchowska). Tymczasem zauroczona Pawłem Ola\, coraz bardziej angażuje się w fascynującą znajomość i związane z nią nielegalne interesy. Wkrótce będzie musiała wybierać między lojalnością wobec Piotra\, a rodzącym się uczuciem do jego brata.\nza: filmweb.pl\n__________________ \nZENEK – godz. 18.00\nreżyseria: Jan Hryniak\nscenariusz: Marta Hryniak\ngatunek: Biograficzny\nprodukcja: Polska\npremiera: 14 lutego 2020 (Polska) / 10 lutego 2020 (świat) \nHistoria chłopaka z podlaskiej wsi\, który realizuje swoje wielkie marzenie\, by śpiewać i bawić tłumy. Dzięki uporowi\, ciężkiej pracy i wielu wyrzeczeniom osiągnął niebywały sukces.\nza: filmweb.pl \n__________________ \n365 DNI – godz. 20.15\nreżyseria: Barbara Białowąs / Tomasz Mandes\nscenariusz: Tomasz Klimala\ngatunek: Erotyczny\nprodukcja: Polska\npremiera: 7 lutego 2020 (Polska) / 7 lutego 2020 (świat) \nMassimo Torricelli\, młody i przystojny szef sycylijskiej rodziny mafijnej po zamachu\, w którym ginie jego ojciec\, jest zmuszony przejąć rządy. Laura Biel jest dyrektorką sprzedaży w luksusowym hotelu. Odnosi sukcesy zawodowe\, ale w życiu prywatnym brakuje jej namiętności. Podejmuje ostatnią próbę ratowania związku. Razem z partnerem i przyjaciółmi leci na Sycylię. Laura nie spodziewa się\, że na jej drodze stanie Massimo – najniebezpieczniejszy mężczyzna na wyspie\, który porwie ją\, uwięzi i da 365 dni na… pokochanie go. „365 dni” to pierwszy polski erotyk. Film powstał na podstawie bestsellerowej książki autorstwa Blanki Lipińskiej. To nie kolejna komedia romantyczna\, ale opowieść o pożądaniu i pragnieniach.\nza: filmweb.pl \n
URL:https://gckgrodek.pl/wydarzenie/kino-zenek-w-grodku/
LOCATION:Gminne Centrum Kultury Gródku\, ul. A. i G. Chodkiewiczów 4\, Gródek\, 16-040
CATEGORIES:Kino
ATTACH;FMTTYPE=image/jpeg:https://gckgrodek.pl/wp-content/uploads/2020/02/kino_luty20.jpg
END:VEVENT
END:VCALENDAR