BEGIN:VCALENDAR
VERSION:2.0
PRODID:-//Gminne Centrum Kultury w Gródku - ECPv4.9.5//NONSGML v1.0//EN
CALSCALE:GREGORIAN
METHOD:PUBLISH
X-WR-CALNAME:Gminne Centrum Kultury w Gródku
X-ORIGINAL-URL:https://gckgrodek.pl
X-WR-CALDESC:Events for Gminne Centrum Kultury w Gródku
BEGIN:VTIMEZONE
TZID:"Europe/Warsaw"
BEGIN:DAYLIGHT
TZOFFSETFROM:+0100
TZOFFSETTO:+0200
TZNAME:CEST
DTSTART:20220327T010000
END:DAYLIGHT
BEGIN:STANDARD
TZOFFSETFROM:+0200
TZOFFSETTO:+0100
TZNAME:CET
DTSTART:20221030T010000
END:STANDARD
END:VTIMEZONE
BEGIN:VEVENT
DTSTART;TZID="Europe/Warsaw":20220718T130000
DTEND;TZID="Europe/Warsaw":20220718T170000
DTSTAMP:20260421T082234
CREATED:20220706T182542Z
LAST-MODIFIED:20220830T072849Z
UID:16528-1658149200-1658163600@gckgrodek.pl
SUMMARY:KINO W GRÓDKU *MINIONKI: WEJŚCIE GRU
DESCRIPTION:KINO CINEMA LUMIERE w Gródku\nsala “kinowa” GCK w Gródku\nBilety do nabycia na miejscu w dniu seansu:\n17 zł – ulgowy; 20 zł – normalny.\nNa miejscu popcorn i sklepik \n__\nMinionki Kevin\, Stuart\, Bob oraz Otto muszą ratować młodego Gru\, który popadł w konflikt z grupą super złoczyńców znaną jako Vicious 6.\nreżyseria\nKyle Balda\nscenariusz\nMatthew Fogel\ngatunek\nAnimacja / Komedia / Przygodowy\nprodukcja\nUSA\npremiera\n1 lipca 2022 (Polska premiera kinowa)\n
URL:https://gckgrodek.pl/wydarzenie/kino-w-grodku-minionki-wejscie-gru/
LOCATION:Gminne Centrum Kultury Gródku\, ul. A. i G. Chodkiewiczów 4\, Gródek\, 16-040
CATEGORIES:Kino
ATTACH;FMTTYPE=image/jpeg:https://gckgrodek.pl/wp-content/uploads/2022/07/292568605_5574310829267230_8664742716588591596_n.jpg
ORGANIZER;CN="Gminne%20Centrum%20Kultury%20w%20Gr%C3%B3dku":MAILTO:biuro@gckgrodek.pl
END:VEVENT
END:VCALENDAR