BEGIN:VCALENDAR
VERSION:2.0
PRODID:-//Gminne Centrum Kultury w Gródku - ECPv4.9.5//NONSGML v1.0//EN
CALSCALE:GREGORIAN
METHOD:PUBLISH
X-WR-CALNAME:Gminne Centrum Kultury w Gródku
X-ORIGINAL-URL:https://gckgrodek.pl
X-WR-CALDESC:Events for Gminne Centrum Kultury w Gródku
BEGIN:VTIMEZONE
TZID:"Europe/Warsaw"
BEGIN:DAYLIGHT
TZOFFSETFROM:+0100
TZOFFSETTO:+0200
TZNAME:CEST
DTSTART:20190331T010000
END:DAYLIGHT
BEGIN:STANDARD
TZOFFSETFROM:+0200
TZOFFSETTO:+0100
TZNAME:CET
DTSTART:20191027T010000
END:STANDARD
END:VTIMEZONE
BEGIN:VEVENT
DTSTART;TZID="Europe/Warsaw":20191107T160000
DTEND;TZID="Europe/Warsaw":20191107T210000
DTSTAMP:20260421T081913
CREATED:20191030T141339Z
LAST-MODIFIED:20191030T141359Z
UID:13662-1573142400-1573160400@gckgrodek.pl
SUMMARY:KINO W GRÓDKU  *LISTOPAD*
DESCRIPTION:✅ godz. 16.00 – RODZINA ADAMSÓW \n1 godz. 27 min.\nRodzina Addamsów\, po przeprowadzce do New Jersey\, musi stawić czoło wyzwaniom XXI wieku\, a także wścibskiej\, sprytnej i chciwej prezenterce telewizyjnej Margaux Needler. W dodatku Addamsowie szykują się do wielkiej rodzinnej uroczystości… \nreżyseria: Conrad Vernon\, Greg Tiernan\nscenariusz: Matt Lieberman\, Pamela Pettler\ngatunek: Animacja Familijny \n✅ godz. 17.30 – BOŻE CIAŁO \n1 godz. 55 min.\nDwudziestoletni Daniel zostaje warunkowo zwolniony z poprawczaka. Wyjeżdża na drugi koniec Polski\, żeby pracować w stolarni\, ale zamiast tego zaczyna udawać księdza. \nreżyseria: Jan Komasa\nscenariusz: Mateusz Pacewicz\ngatunek: Obyczajowy \n✅ godz. 19.30 – COUNTDOWN \n1 godz. 30 min.\nRuth wraz z grupą przyjaciół w ramach żartu ściąga na smartfon tajemniczą aplikację\, która ma przewidywać datę śmierci użytkownika. \nreżyseria: Justin Dec\nscenariusz: Justin Dec\ngatunek: Horror \n
URL:https://gckgrodek.pl/wydarzenie/kino-w-grodku-listopad/
LOCATION:Gminne Centrum Kultury Gródku\, ul. A. i G. Chodkiewiczów 4\, Gródek\, 16-040
CATEGORIES:Kino
ATTACH;FMTTYPE=image/jpeg:https://gckgrodek.pl/wp-content/uploads/2019/10/kino_new_listopada-—-kopia.jpg
ORGANIZER;CN="Gminne%20Centrum%20Kultury%20w%20Gr%C3%B3dku":MAILTO:biuro@gckgrodek.pl
END:VEVENT
END:VCALENDAR