BEGIN:VCALENDAR
VERSION:2.0
PRODID:-//Gminne Centrum Kultury w Gródku - ECPv4.9.5//NONSGML v1.0//EN
CALSCALE:GREGORIAN
METHOD:PUBLISH
X-WR-CALNAME:Gminne Centrum Kultury w Gródku
X-ORIGINAL-URL:https://gckgrodek.pl
X-WR-CALDESC:Events for Gminne Centrum Kultury w Gródku
BEGIN:VTIMEZONE
TZID:"Europe/Warsaw"
BEGIN:DAYLIGHT
TZOFFSETFROM:+0100
TZOFFSETTO:+0200
TZNAME:CEST
DTSTART:20250330T010000
END:DAYLIGHT
BEGIN:STANDARD
TZOFFSETFROM:+0200
TZOFFSETTO:+0100
TZNAME:CET
DTSTART:20251026T010000
END:STANDARD
END:VTIMEZONE
BEGIN:VEVENT
DTSTART;TZID="Europe/Warsaw":20251212T163000
DTEND;TZID="Europe/Warsaw":20251212T213000
DTSTAMP:20260420T112816
CREATED:20251119T142759Z
LAST-MODIFIED:20251119T142759Z
UID:17766-1765557000-1765575000@gckgrodek.pl
SUMMARY:KINO W GRÓDKU | GRUDZIEŃ
DESCRIPTION:Rozkład projekcji:godz. 16.30 – PIERNIKOWE SERCEgodz. 18.30 – DOM DOBRY\nBilety do nabycia w kasie na holu w dniu seansów: 23 zł normalny; 20 ulgowy;Poranne filmy dla dzieci i młodzieży z przedszkola i szkoły.Filmy wyświetla: Kino w Twoim Mieście \n\n\n
URL:https://gckgrodek.pl/wydarzenie/kino-w-grodku-grudzien-3/
LOCATION:Gminne Centrum Kultury Gródku\, ul. A. i G. Chodkiewiczów 4\, Gródek\, 16-040
CATEGORIES:Kino
ATTACH;FMTTYPE=image/jpeg:https://gckgrodek.pl/wp-content/uploads/2025/11/kino-—-kopia.jpg
ORGANIZER;CN="Gminne%20Centrum%20Kultury%20w%20Gr%C3%B3dku":MAILTO:biuro@gckgrodek.pl
END:VEVENT
END:VCALENDAR