BEGIN:VCALENDAR
VERSION:2.0
PRODID:-//Gminne Centrum Kultury w Gródku - ECPv4.9.5//NONSGML v1.0//EN
CALSCALE:GREGORIAN
METHOD:PUBLISH
X-WR-CALNAME:Gminne Centrum Kultury w Gródku
X-ORIGINAL-URL:https://gckgrodek.pl
X-WR-CALDESC:Events for Gminne Centrum Kultury w Gródku
BEGIN:VTIMEZONE
TZID:"Europe/Warsaw"
BEGIN:DAYLIGHT
TZOFFSETFROM:+0100
TZOFFSETTO:+0200
TZNAME:CEST
DTSTART:20210328T010000
END:DAYLIGHT
BEGIN:STANDARD
TZOFFSETFROM:+0200
TZOFFSETTO:+0100
TZNAME:CET
DTSTART:20211031T010000
END:STANDARD
END:VTIMEZONE
BEGIN:VEVENT
DTSTART;TZID="Europe/Warsaw":20211216T160000
DTEND;TZID="Europe/Warsaw":20211216T203000
DTSTAMP:20260420T142352
CREATED:20211209T142306Z
LAST-MODIFIED:20211209T142306Z
UID:16281-1639670400-1639686600@gckgrodek.pl
SUMMARY:KINO W  GRÓDKU | GRUDZIEŃ
DESCRIPTION:KINO CINEMA LUMIERE w Gródku.\n16 GRUDNIA – sala “kinowa” GCK w Gródku\nZ rana specjalne seanse dla Przedszkola Samorządowego i Szkoły Podstawowej w Gródku.\nBilety do nabycia na miejscu w dniu seansu: 16 zł – ulgowy; 18 zł – normalny.\nNa miejscu do nabycia świeżo robiony popcorn!\n\ngodz. 16.00 – CLIFFORD. WIELKI CZERWONY PIES\, 1 godz. 36 min.\nOśmioletnia dziewczynka\, Emily Elizabeth marzy o tym\, aby jej maleńki\, czerwony szczeniak urósł i był silny\, nie spodziewa się jednak\, że budząc się pewnego ranka znajdzie wielkiego psa w swoim małym mieszkaniu w Nowym Jorku. Emily za wszelką cenę chce\, aby ukochany zwierzak został z nią. Postanawia znaleźć czarodzieja\, który\, przywróci Clifforda do normalnego rozmiaru. Na poszukiwania udaje się ze swoim wujem Caseyem i szkolnym kolegą Owenem. Clifford wzbudza powszechne zaciekawienie. Przyciąga również uwagę złego naukowca\, który chce aby Clifford został jego psem.\nreżyseria: Walt Becker\nscenariusz: Blaise Hemingway / Justin Malen\ngatunek: Animacja / Familijny\nprodukcja: Kanada / USA\npremiera: 3 grudnia 2021 (Polska)\n\ngodz. 18.00 – DZIEWCZYNY Z DUBAJU\, 2 godz. 30 min.\nEmi to młoda ambitna dziewczyna\, która od lat marzy o wielkim świecie. Gdy tylko nadarza się okazja\, bez wahania wskakuje w jego tryby\, stając się ekskluzywną damą do towarzystwa. Wkrótce to ona na zaproszenie arabskich szejków zaczyna werbować polskie miss\, celebrytki\, gwiazdy ekranu i modelki. Jednak ten niedostępny\, opływający w luksusy świat już niedługo pokaże swoją mroczną stronę… Oparte na prawdziwych wydarzeniach “Dziewczyny z Dubaju” zdemaskują hipokryzję polskiego show biznesu i ujawnią całą prawdę na temat tzw. “afery dubajskiej”\nreżyseria: Maria Sadowska\nscenariusz: Dimitrij Potochnik / Lucas Coleman\ngatunek: Dramat / Erotyczny / Sensacyjny\nprodukcja: Polska\npremiera: 26 listopada 2021 (Polska)\n
URL:https://gckgrodek.pl/wydarzenie/kino-w-grodku-grudzien-2/
LOCATION:Gminne Centrum Kultury Gródku\, ul. A. i G. Chodkiewiczów 4\, Gródek\, 16-040
CATEGORIES:Kino
ATTACH;FMTTYPE=image/jpeg:https://gckgrodek.pl/wp-content/uploads/2021/12/kino_grudzien21-—-kopia.jpg
ORGANIZER;CN="Gminne%20Centrum%20Kultury%20w%20Gr%C3%B3dku":MAILTO:biuro@gckgrodek.pl
END:VEVENT
END:VCALENDAR