BEGIN:VCALENDAR
VERSION:2.0
PRODID:-//Gminne Centrum Kultury w Gródku - ECPv4.9.5//NONSGML v1.0//EN
CALSCALE:GREGORIAN
METHOD:PUBLISH
X-WR-CALNAME:Gminne Centrum Kultury w Gródku
X-ORIGINAL-URL:https://gckgrodek.pl
X-WR-CALDESC:Events for Gminne Centrum Kultury w Gródku
BEGIN:VTIMEZONE
TZID:"Europe/Warsaw"
BEGIN:DAYLIGHT
TZOFFSETFROM:+0100
TZOFFSETTO:+0200
TZNAME:CEST
DTSTART:20190331T010000
END:DAYLIGHT
BEGIN:STANDARD
TZOFFSETFROM:+0200
TZOFFSETTO:+0100
TZNAME:CET
DTSTART:20191027T010000
END:STANDARD
END:VTIMEZONE
BEGIN:VEVENT
DTSTART;TZID="Europe/Warsaw":20190227T080000
DTEND;TZID="Europe/Warsaw":20190227T220000
DTSTAMP:20260420T152944
CREATED:20190221T113209Z
LAST-MODIFIED:20190227T151355Z
UID:11918-1551254400-1551304800@gckgrodek.pl
SUMMARY:KINO W GRÓDKU
DESCRIPTION:Gminne Centrum Kultury w Gródku oraz Kino w Twoim Mieście zapraszają na seanse: \n– 14.00 – Kobiety Mafii 2\n– 16.15 – Jak wytresować smoka 3\n– 18.15 – MiszMasz czyli Kogel Mogel 3\n– 20.00 – Kobiety Mafii 2 \nCeny biletów: 14 zł – ulgowy; 16 zł – normalny \nPoranne seanse dla szkoły i przedszkola: Chłopiec z burzy i Jak wytresować smoka 3. \n
URL:https://gckgrodek.pl/wydarzenie/kino-w-grodku-5/
LOCATION:Gminne Centrum Kultury Gródku\, ul. A. i G. Chodkiewiczów 4\, Gródek\, 16-040
CATEGORIES:Kino
ATTACH;FMTTYPE=image/jpeg:https://gckgrodek.pl/wp-content/uploads/2019/02/KINO_MARZEC.jpg
ORGANIZER;CN="Gminne%20Centrum%20Kultury%20w%20Gr%C3%B3dku":MAILTO:biuro@gckgrodek.pl
END:VEVENT
END:VCALENDAR