BEGIN:VCALENDAR
VERSION:2.0
PRODID:-//Gminne Centrum Kultury w Gródku - ECPv4.9.5//NONSGML v1.0//EN
CALSCALE:GREGORIAN
METHOD:PUBLISH
X-WR-CALNAME:Gminne Centrum Kultury w Gródku
X-ORIGINAL-URL:https://gckgrodek.pl
X-WR-CALDESC:Events for Gminne Centrum Kultury w Gródku
BEGIN:VTIMEZONE
TZID:"Europe/Warsaw"
BEGIN:DAYLIGHT
TZOFFSETFROM:+0100
TZOFFSETTO:+0200
TZNAME:CEST
DTSTART:20180325T010000
END:DAYLIGHT
BEGIN:STANDARD
TZOFFSETFROM:+0200
TZOFFSETTO:+0100
TZNAME:CET
DTSTART:20181028T010000
END:STANDARD
END:VTIMEZONE
BEGIN:VEVENT
DTSTART;TZID="Europe/Warsaw":20181003T161500
DTEND;TZID="Europe/Warsaw":20181003T214500
DTSTAMP:20260420T033317
CREATED:20180918T130741Z
LAST-MODIFIED:20180918T130741Z
UID:10490-1538583300-1538603100@gckgrodek.pl
SUMMARY:KINO W GRÓDKU
DESCRIPTION:JULIUSZ – godz. 16.15\n1 godz. 37 min. \nTytułowym bohaterem jest uporządkowany nauczyciel plastyki (Wojciech Mecwaldowski)\, którego głównym problemem w życiu jest ojciec (Jan Peszek) – nieustająco imprezujący artysta-malarz. Kiedy senior przeżyje drugi zawał serca\, a mimo to odmówi zmiany stylu życia\, Juliusz będzie musiał znaleźć sposób na to\, by wpłynąć na jego zachowanie. Lekarstwem na bolączki bohatera wydawać się będzie przypadkowo poznana\, beztroska lekarz weterynarii – Dorota (Anna Smołowik). Okaże się jednak\, że prawdziwe problemy dopiero nadchodzą… \nhttps://www.filmweb.pl/film/Juliusz-2018-795665/descs \n \n  \nKLER – godz. 18.00\n2 godz. 13 min. \nPrzed kilkoma laty tragiczne wydarzenia połączyły losy trzech księży katolickich. Teraz\, w każdą rocznicę katastrofy\, z której cudem uszli z życiem\, duchowni spotykają się\, by uczcić fakt swojego ocalenia. Na co dzień układa im się bardzo różnie. Lisowski (Jacek Braciak) jest pracownikiem kurii w wielkim mieście i robi karierę\, marząc o Watykanie. Problem w tym\, że na jego drodze staje arcybiskup Mordowicz (Janusz Gajos)\, pławiący się w luksusach dostojnik kościelny\, używający politycznych wpływów przy budowie największego sanktuarium w Polsce… Drugi z księży – Trybus (Robert Więckiewicz) w odróżnieniu od Lisowskiego jest wiejskim proboszczem. Sprawując posługę w miejscu pełnym ubóstwa\, coraz częściej ulega ludzkim słabościom. Niezbyt dobrze wiedzie się też Kukule (Arkadiusz Jakubik)\, który – pomimo swojej żarliwej wiary – właściwie z dnia na dzień traci zaufanie parafian. Wkrótce historie trójki duchownych połączą się po raz kolejny\, a wydarzenia\, które będą mieć miejsce\, nie pozostaną bez wpływu na życie każdego z nich. \nhttps://www.filmweb.pl/film/Kler-2018-810402/descs \n \n  \nZAKONNICA – godz. 20.15\n1 godz. 36 min. \nKiedy młoda zakonnica odbiera sobie życie w klasztorze w Rumunii\, nękany zmorami z przeszłości ksiądz i nowicjuszka\, która ma właśnie złożyć śluby zakonne\, zostają wysłani przez Watykan\, aby zbadać tę sprawę. Wspólnie odkrywają niechlubny sekret zakonu. Ryzykując nie tylko własnym życiem\, ale też swą wiarą i duszami\, stawiają czoła złowrogiej sile pod postacią tej samej demonicznej zakonnicy\, która po raz pierwszy przerażała widzów w “Obecności 2“. Natomiast opactwo staje się straszliwym polem walki toczącej się między żywymi i potępieńcami. \n\n\nhttps://www.filmweb.pl/film/Zakonnica-2018-777024/descs\n \n\n\n
URL:https://gckgrodek.pl/wydarzenie/kino-w-grodku-2/
LOCATION:Gminne Centrum Kultury Gródku\, ul. A. i G. Chodkiewiczów 4\, Gródek\, 16-040
CATEGORIES:Kino
ATTACH;FMTTYPE=image/jpeg:https://gckgrodek.pl/wp-content/uploads/2018/09/plkat_kino_kwiecien_18-—-kopia.jpg
ORGANIZER;CN="Gminne%20Centrum%20Kultury%20w%20Gr%C3%B3dku":MAILTO:biuro@gckgrodek.pl
END:VEVENT
END:VCALENDAR