BEGIN:VCALENDAR
VERSION:2.0
PRODID:-//Gminne Centrum Kultury w Gródku - ECPv4.9.5//NONSGML v1.0//EN
CALSCALE:GREGORIAN
METHOD:PUBLISH
X-WR-CALNAME:Gminne Centrum Kultury w Gródku
X-ORIGINAL-URL:https://gckgrodek.pl
X-WR-CALDESC:Events for Gminne Centrum Kultury w Gródku
BEGIN:VTIMEZONE
TZID:"Europe/Warsaw"
BEGIN:DAYLIGHT
TZOFFSETFROM:+0100
TZOFFSETTO:+0200
TZNAME:CEST
DTSTART:20230326T010000
END:DAYLIGHT
BEGIN:STANDARD
TZOFFSETFROM:+0200
TZOFFSETTO:+0100
TZNAME:CET
DTSTART:20231029T010000
END:STANDARD
END:VTIMEZONE
BEGIN:VEVENT
DTSTART;TZID="Europe/Warsaw":20230606T080000
DTEND;TZID="Europe/Warsaw":20230606T210000
DTSTAMP:20260420T140112
CREATED:20230511T111710Z
LAST-MODIFIED:20230511T111710Z
UID:16868-1686038400-1686085200@gckgrodek.pl
SUMMARY:KINO W GRÓDKU
DESCRIPTION:KINO CINEMA LUMIERE w Gródku – 6 czerwca (wtorek)\nsala “kinowa” GCK w Gródku\nBilety do nabycia na miejscu w dniu seansu:\n18 zł – ulgowy; 20 zł – normalny.\nNa miejscu popcorn i sklepik \nPoranne seanse dla Przedszkola Samorządowego i Szkoły Podstawowej w Gródku.\n godz. 15.00 oraz 17.30 – Super Mario Bros. Film\nAmerykańsko-japoński film animowany\, oparty na serii gier wideo Nintendo Mario. Jest to druga adaptacja kinowa po filmie Super Mario Bros z 1993 roku. Wikipedia\nreżyseria: Aaron Horvath\, Michael Jelenic\nscenariusz: Matthew Fogel\ngatunek: Animacja\, Komedia\, Przygodowy\nprodukcja: USA\, Japonia\npremiera: 5 kwietnia 2023 (Światowa premiera) 26 maja 2023 (Polska premiera kinowa)\nza: https://pl.wikipedia.org/\n godz. 16.40 – Kicia Kocia mówi: Dzień dobry!\nBystra kotka oraz jej przyjaciele zapraszają do kin. Podczas seansów nie zabraknie świetnej zabawy\, przedszkolnych wyzwań czy niesamowitych odkryć.Rezolutna Kicia Kocia razem z wiernymi przyjaciółmi: Packiem\, Adelką i Juliankiem odkrywa odważnie świat i stawia czoła wielu nowym sytuacjom. Przygody Kici Koci odzwierciedlają dziecięcą wrażliwość oraz ukazują pełną ciepła i radości codzienność. Czynności\, takie jak mycie się\, gotowanie\, jazda pociągiem\, radzenie sobie z przeziębieniem czy zawieranie przyjaźni\, pomagają najmłodszym oswajać się z nowymi emocjami i uczuciami. Kicia Kocia znajdzie odpowiedź na wszystko! Filmowe opowieści na podstawie uwielbianych książek Anity Głowińskiej to idealna okazja na jeden z pierwszych\, niezapomnianych seansów w kinie.\nza: https://www.cinema-city.pl/\n godz. 19.15 – Mafia Mamma\nreżyseria: Catherine Hardwicke\nscenariusz: J. Michael Feldman\, Debbie Jhoon\ngatunek: Akcja\, Komedia kryminalna\nprodukcja: Wielka Brytania\, Włochy\, USA\npremiera: 14 kwietnia 2023 (Światowa premiera) 26 maja 2023 (Polska premiera kinowa)\nGłówną bohaterką „Mafia Mamma” jest Kristin (Toni Collette)\, która ma wrażenie\, że nic ekscytującego jej już w życiu nie czeka. Dzieci wyfrunęły z gniazda\, a mąż od dawna woli dziobać poza domem. Gdy z Włoch nadchodzi wiadomość o śmierci dziadka\, Kristin wyrusza na pogrzeb\, który wywróci jej życie do góry nogami. Uroczy staruszek przed śmiercią uczynił Kristin jedyną spadkobierczynią swojego biznesu. A że parał się dość nielegalnym zajęciem\, wnuczka staje przed poważnym wyzwaniem. Dziadzio był szefem groźnej mafijnej rodziny\, a jego śmierć zaostrzyła apetyt konkurencyjnych rodów. Kristin będzie musiała zamienić wałek do ciasta na kij baseballowy\, a miotłę na karabin\, jeśli sama nie chce skończyć w betonowych trzewikach. Strzeżcie się matki chrzestnej!\nza: filmweb.pl \nPokaż mniej\n\n
URL:https://gckgrodek.pl/wydarzenie/kino-w-grodku-12/
LOCATION:Gminne Centrum Kultury Gródku\, ul. A. i G. Chodkiewiczów 4\, Gródek\, 16-040
CATEGORIES:Kino
ATTACH;FMTTYPE=image/jpeg:https://gckgrodek.pl/wp-content/uploads/2023/05/kino_6_czerwca-—-kopia.jpg
ORGANIZER;CN="Gminne%20Centrum%20Kultury%20w%20Gr%C3%B3dku":MAILTO:biuro@gckgrodek.pl
END:VEVENT
END:VCALENDAR