BEGIN:VCALENDAR
VERSION:2.0
PRODID:-//Gminne Centrum Kultury w Gródku - ECPv4.9.5//NONSGML v1.0//EN
CALSCALE:GREGORIAN
METHOD:PUBLISH
X-WR-CALNAME:Gminne Centrum Kultury w Gródku
X-ORIGINAL-URL:https://gckgrodek.pl
X-WR-CALDESC:Events for Gminne Centrum Kultury w Gródku
BEGIN:VTIMEZONE
TZID:"Europe/Warsaw"
BEGIN:DAYLIGHT
TZOFFSETFROM:+0100
TZOFFSETTO:+0200
TZNAME:CEST
DTSTART:20220327T010000
END:DAYLIGHT
BEGIN:STANDARD
TZOFFSETFROM:+0200
TZOFFSETTO:+0100
TZNAME:CET
DTSTART:20221030T010000
END:STANDARD
END:VTIMEZONE
BEGIN:VEVENT
DTSTART;TZID="Europe/Warsaw":20221011T153000
DTEND;TZID="Europe/Warsaw":20221011T220000
DTSTAMP:20260420T140743
CREATED:20220921T114901Z
LAST-MODIFIED:20220921T114901Z
UID:16645-1665502200-1665525600@gckgrodek.pl
SUMMARY:KINO W GRÓDKU
DESCRIPTION:KINO CINEMA LUMIERE w Gródku\nsala “kinowa” GCK w Gródku\nBilety do nabycia na miejscu w dniu seansu:\n18 zł – ulgowy; 20 zł – normalny.\nNa miejscu popcorn i sklepik \n__\nPoranne seanse dla Przedszkola Samorządowego i Szkoły Podstawowej w Gródku:\n– Guliwer\n– ORLĘTA. GRODNO’39\n__\nTEDI I SZMARAGDOWA TABLICA\nreżyseria: Enrique Gato\nscenariusz: Manuel Burque / Josep Gatell\ngatunek: Animacja / Komedia / Przygodowy\nprodukcja: Hiszpania\npremiera: 23 września 2022 (Polska premiera kinowa)\nNajwiększym marzeniem Tediego jest zostać zaakceptowanym przez kolegów archeologów. Kiedy niechcący niszczy egipski sarkofag\, ściąga na siebie i swoich przyjaciół klątwę. Uratowanie Mumii\, Jeffa i Belzoniego zapoczątkuje pełną akcji przygodę. Wraz z Sarą przemierzy pół świata\, aby odwrócić klątwę Szmaragdowej Tablicy.\nopis dystrybutora kino\nJOHNNY\nreżyseria: Daniel Jaroszek\nscenariusz: Maciej Kraszewski\ngatunek: Biograficzny\nprodukcja: Polska\npremiera: 23 września 2022 (Polska premiera kinowa)\nOparta na prawdziwej historii opowieść o miłości do świata i drugiego człowieka oraz o tym\, że każdy zasługuje na drugą szansę. Gdy Patryk dostaje ją od ks. Jana Kaczkowskiego\, nie podejrzewa nawet\, jak odmieni to jego życie.\nMIŁOŚĆ NA PIERWSZĄ STRONĘ\nreżyseria: Maria Sadowska\nscenariusz: Mariusz Kuczewski\ngatunek: Komedia rom.\nprodukcja: Polska\npremiera: 7 października 2022 (Polska premiera kinowa)\nOna jest zwykłą dziewczyną z sąsiedztwa\, on najlepszą partią Rzeczpospolitej. Podobno przeciwieństwa się przyciągają\, ale miłość bywa nieprzewidywalna. Szczególnie\, gdy zanadto interesują się nią inne osoby. “Miłość na pierwszą stronę” to historia Niny (Olga Bołądź) – współczesnego kopciuszka i Roberta (Piotr Stramowski) – syna pary prezydenckiej. Ona jest w trakcie życiowej przemiany i przebojowo stawia pierwsze kroki w zawodzie paparazzi. On też chce żyć na własnych zasadach i uwolnić się od blasku fleszy\, co może okazać się trudniejsze\, niż przypuszcza. Między bohaterami zaiskrzy jedynie ulotna “miłość na pierwszą stronę”\, czy wielkie uczucie na całe życie?\nopis producenta+\n
URL:https://gckgrodek.pl/wydarzenie/kino-w-grodku-10/
LOCATION:Gminne Centrum Kultury Gródku\, ul. A. i G. Chodkiewiczów 4\, Gródek\, 16-040
CATEGORIES:Kino
ATTACH;FMTTYPE=image/jpeg:https://gckgrodek.pl/wp-content/uploads/2022/09/kino_8cz.jpg
ORGANIZER;CN="Gminne%20Centrum%20Kultury%20w%20Gr%C3%B3dku":MAILTO:biuro@gckgrodek.pl
END:VEVENT
END:VCALENDAR