BEGIN:VCALENDAR
VERSION:2.0
PRODID:-//Gminne Centrum Kultury w Gródku - ECPv4.9.5//NONSGML v1.0//EN
CALSCALE:GREGORIAN
METHOD:PUBLISH
X-WR-CALNAME:Gminne Centrum Kultury w Gródku
X-ORIGINAL-URL:https://gckgrodek.pl
X-WR-CALDESC:Events for Gminne Centrum Kultury w Gródku
BEGIN:VTIMEZONE
TZID:"Europe/Warsaw"
BEGIN:DAYLIGHT
TZOFFSETFROM:+0100
TZOFFSETTO:+0200
TZNAME:CEST
DTSTART:20200329T010000
END:DAYLIGHT
BEGIN:STANDARD
TZOFFSETFROM:+0200
TZOFFSETTO:+0100
TZNAME:CET
DTSTART:20201025T010000
END:STANDARD
END:VTIMEZONE
BEGIN:VEVENT
DTSTART;TZID="Europe/Warsaw":20200122T110000
DTEND;TZID="Europe/Warsaw":20200122T220000
DTSTAMP:20260422T084623
CREATED:20200115T112323Z
LAST-MODIFIED:20200115T122035Z
UID:14363-1579690800-1579730400@gckgrodek.pl
SUMMARY:KINO na FERIE w Gródku
DESCRIPTION:11.00 – Misiek i chiński skarb; DARMOWE WEJŚCIE !!! (liczba miejsc ograniczona\, decyduje kolejność przybycia)\n13.30 – Jumanji; następny poziom.\n15.45 – Tajni i fajni\n17.45 – Mayday\n20.00 – Psy 3 \nBILETY DO NABYCIA\nPRZED SEANSAMI\n18 zł normalny\n15 zł ulgowy\n12 zł grupowy \n
URL:https://gckgrodek.pl/wydarzenie/kino-na-ferie-w-grodku/
LOCATION:Gminne Centrum Kultury Gródku\, ul. A. i G. Chodkiewiczów 4\, Gródek\, 16-040
CATEGORIES:Kino
ATTACH;FMTTYPE=image/jpeg:https://gckgrodek.pl/wp-content/uploads/2020/01/kino_luty20-—-kopia-1.jpg
ORGANIZER;CN="Gminne%20Centrum%20Kultury%20w%20Gr%C3%B3dku":MAILTO:biuro@gckgrodek.pl
END:VEVENT
END:VCALENDAR