BEGIN:VCALENDAR
VERSION:2.0
PRODID:-//Gminne Centrum Kultury w Gródku - ECPv4.9.5//NONSGML v1.0//EN
CALSCALE:GREGORIAN
METHOD:PUBLISH
X-WR-CALNAME:Gminne Centrum Kultury w Gródku
X-ORIGINAL-URL:https://gckgrodek.pl
X-WR-CALDESC:Events for Gminne Centrum Kultury w Gródku
BEGIN:VTIMEZONE
TZID:"Europe/Warsaw"
BEGIN:DAYLIGHT
TZOFFSETFROM:+0100
TZOFFSETTO:+0200
TZNAME:CEST
DTSTART:20190331T010000
END:DAYLIGHT
BEGIN:STANDARD
TZOFFSETFROM:+0200
TZOFFSETTO:+0100
TZNAME:CET
DTSTART:20191027T010000
END:STANDARD
END:VTIMEZONE
BEGIN:VEVENT
DTSTART;TZID="Europe/Warsaw":20191207T160000
DTEND;TZID="Europe/Warsaw":20191207T180000
DTSTAMP:20260421T095128
CREATED:20191126T080125Z
LAST-MODIFIED:20191127T165404Z
UID:14114-1575734400-1575741600@gckgrodek.pl
SUMMARY:KABARET CZWARTA FALA
DESCRIPTION:.: Przedsprzedaż biletów w GCK od 26.11 :. \nCENA BILETU: 15 zł \nYouTube: https://www.youtube.com/user/TVPFALA \nKabaret Czwarta Fala – formacja młodego pokolenia\, istniejąca od września 2009 roku\, w skład której wchodzą 3 osoby- Mateusz Lewkowicz\, Damian Lebieda oraz Bartłomiej Cedro. \nTwórcy hitu „Wieśka Tico”\, który na YouTube osiągnął przeszło 45 milionów wyświetleń\, „Passat robi we wsi szum” (30 milionów wyświetleń)\, jak również innych parodii\, które zna cała Polska.\nIch kanał śledzi ponad 350 000 osób\, co sprawia\, iż Czwarta Fala jest najpopularniejszym kabaretem w polskim Internecie. \nMłodzi\, pełni pozytywnej energii\, zawsze gotowi na interakcje z widownią- tak w skrócie można opisać Czwartą Falę. Twórcy przygód dwóch nierozgarniętych dresiarzy- Kloca i Wentyla\, przybywają do Państwa z programem Made in Poland\, żeby porwać Was w świat pełen humoru. \nUsiądźcie wygodnie\, przygotujcie się na świetną zabawę i pozwólcie się porwać Czwartej Fali ! \n \n
URL:https://gckgrodek.pl/wydarzenie/kabaret-czwarta-fala-w-grodku/
LOCATION:Gminne Centrum Kultury Gródku\, ul. A. i G. Chodkiewiczów 4\, Gródek\, 16-040
CATEGORIES:Kabaret
ATTACH;FMTTYPE=image/jpeg:https://gckgrodek.pl/wp-content/uploads/2019/11/Plakat-2018.jpg
ORGANIZER;CN="Gminne%20Centrum%20Kultury%20w%20Gr%C3%B3dku":MAILTO:biuro@gckgrodek.pl
END:VEVENT
END:VCALENDAR