BEGIN:VCALENDAR
VERSION:2.0
PRODID:-//Gminne Centrum Kultury w Gródku - ECPv4.9.5//NONSGML v1.0//EN
CALSCALE:GREGORIAN
METHOD:PUBLISH
X-WR-CALNAME:Gminne Centrum Kultury w Gródku
X-ORIGINAL-URL:https://gckgrodek.pl
X-WR-CALDESC:Events for Gminne Centrum Kultury w Gródku
BEGIN:VTIMEZONE
TZID:"Europe/Warsaw"
BEGIN:DAYLIGHT
TZOFFSETFROM:+0100
TZOFFSETTO:+0200
TZNAME:CEST
DTSTART:20250330T010000
END:DAYLIGHT
BEGIN:STANDARD
TZOFFSETFROM:+0200
TZOFFSETTO:+0100
TZNAME:CET
DTSTART:20251026T010000
END:STANDARD
END:VTIMEZONE
BEGIN:VEVENT
DTSTART;TZID="Europe/Warsaw":20251213T160000
DTEND;TZID="Europe/Warsaw":20251213T183000
DTSTAMP:20260421T095128
CREATED:20251031T134721Z
LAST-MODIFIED:20251212T112446Z
UID:17746-1765641600-1765650600@gckgrodek.pl
SUMMARY:KABARET CZWARTA FALA W GRÓDKU
DESCRIPTION:\n\nW związku z tragedią\, która wydarzyła się w naszej gminie informujemy\, iż ODWOŁUJEMY sobotnie wydarzenie Kabaret CZWARTA FALA w Gródku .\n\n\nOsoby\, które zakupiły bilety za pośrednictwem platformy Evenea w najbliższym czasie otrzymają zwrot środków. O nowym terminie poinformujemy niebawem!\n\n\nDziękujemy Kabaret Czwarta Fala za zrozumienie sytuacji!\n\n\n\n\n\nBilety do zakupu tylko przez platformę EVENEA: https://app.evenea.pl/event/893240-5/\nCena: 30 zł\nCzwarta Fala po raz kolejny w Gródku! Kilka lat temu gościliśmy ich na deskach naszej sceny\, a w tym roku wracają ze świeżutkim\, nowym programem!\nKiedy: 13 grudnia (sobota)\nGodzina: 16.00\nGdzie: Gminne Centrum Kultury w Gródku\nKabaret Czwarta Fala- formacja młodego pokolenia\, istniejąca od września 2009 roku\, w skład której wchodzą 2 osoby- Mateusz Lewkowicz oraz Damian Lebieda.\nUczestnicy największych Festiwali Kabaretowych w Polsce- Sopot Hit Festiwal\, Mazurska Noc Kabaretowa\, Kabaret na Żywo i wiele\, wiele innych.\nTwórcy hitu “Wieśka Tico”\, który na YouTube osiągnął grubo ponad 50 milionów wyświetleń\, “Mój Passat robi we wsi szum” (ponad 76 milionów wyświetleń\, co sprawia\, iż jest on najpopularniejszą parodią w historii polskiego Internetu)\, jak również innych utworów\, które zna cała Polska.\nWiodącą postacią na ich kanale jest Janusz\, którego przygody\, z zapartym tchem\, śledzą miliony Polaków.\nIch kanał subskrybuje ponad 800 000 osób\, co sprawia\, iż Czwarta Fala jest najpopularniejszym kabaretem na polskim YouTube.\nMłodzi\, pełni pozytywnej energii\, zawsze gotowi na interakcje z widownią- tak w skrócie można opisać Czwartą Falę. Twórcy przygód dwóch nierozgarniętych dresiarzy- Kloca i Wentyla\, przybywają do Państwa ze swoim programem\, żeby zabrać Was do świata pełnego humoru. Usiądźcie wygodnie\, przygotujcie się na świetną zabawę i pozwólcie się porwać Czwartej Fali !\n
URL:https://gckgrodek.pl/wydarzenie/kabaret-czwarta-fala-w-grodku-2/
LOCATION:Gminne Centrum Kultury Gródku\, ul. A. i G. Chodkiewiczów 4\, Gródek\, 16-040
CATEGORIES:Kabaret
ATTACH;FMTTYPE=image/jpeg:https://gckgrodek.pl/wp-content/uploads/2025/10/574046324_1129014566049257_2338536617042370848_n-1.jpg
ORGANIZER;CN="Gminne%20Centrum%20Kultury%20w%20Gr%C3%B3dku":MAILTO:biuro@gckgrodek.pl
END:VEVENT
END:VCALENDAR