BEGIN:VCALENDAR
VERSION:2.0
PRODID:-//Gminne Centrum Kultury w Gródku - ECPv4.9.5//NONSGML v1.0//EN
CALSCALE:GREGORIAN
METHOD:PUBLISH
X-WR-CALNAME:Gminne Centrum Kultury w Gródku
X-ORIGINAL-URL:https://gckgrodek.pl
X-WR-CALDESC:Events for Gminne Centrum Kultury w Gródku
BEGIN:VTIMEZONE
TZID:"Europe/Warsaw"
BEGIN:DAYLIGHT
TZOFFSETFROM:+0100
TZOFFSETTO:+0200
TZNAME:CEST
DTSTART:20250330T010000
END:DAYLIGHT
BEGIN:STANDARD
TZOFFSETFROM:+0200
TZOFFSETTO:+0100
TZNAME:CET
DTSTART:20251026T010000
END:STANDARD
END:VTIMEZONE
BEGIN:VEVENT
DTSTART;TZID="Europe/Warsaw":20251219T170000
DTEND;TZID="Europe/Warsaw":20251219T173000
DTSTAMP:20260420T124311
CREATED:20251209T140020Z
LAST-MODIFIED:20251209T140020Z
UID:17888-1766163600-1766165400@gckgrodek.pl
SUMMARY:HERODY W GRÓDKU
DESCRIPTION:Fundacja Teatr Latarnia oraz Gminne Centrum Kultury w Gródku serdecznie zapraszają na widowisko szopkowe dla całych rodzin pt. “Herody”.\nWstęp wolny!\nLalki do spektaklu zostały wykonane własnoręcznie ze starych przedmiotów oraz naturalnych materiałów gromadzonych przez nas od lat. Warstwa dźwiękowa spektaklu tworzona jest na żywo na tradycyjnych instrumentach: aurę spektaklu budują dźwięki przedwojennego akordeonu\, wraz z bębenkiem obręczowym ręcznie kutym trójkątem\, oraz różnego rodzaju perkusjonaliami. Dopełniają je starodawne kantyczki i polskie kolędy śpiewane przez Mateusza Tymurę – aktora i muzykanta.W „Herodach” zabawa miesza się z ludowym patosem\, a stara jak świat opowieść przynosi widzom nie tylko przestrogę\, ale także sporo uciechy i bożonarodzeniowej otuchy.Czas trwania: 35 min. widowisko + gawęda z warsztatami\n𝗣𝗼𝗺𝘆𝘀ł 𝗶 𝗿𝗲𝗮𝗹𝗶𝘇𝗮𝗰𝗷𝗮: 𝗠𝗮𝘁𝗲𝘂𝘀𝘇 𝗧𝘆𝗺𝘂𝗿𝗮𝗟𝗮𝗹𝗸𝗶: 𝗠𝗼𝗻𝗶𝗸𝗮 𝗞𝘄𝗶𝗮𝘁𝗸𝗼𝘄𝘀𝗸𝗮\nZadanie dofinansowane przez Ministerstwo Kultury i Dziedzictwa Narodowego\, Województwo Podlaskie oraz Powiat Białostocki.\n
URL:https://gckgrodek.pl/wydarzenie/herody-w-grodku/
LOCATION:Gminne Centrum Kultury Gródku\, ul. A. i G. Chodkiewiczów 4\, Gródek\, 16-040
ATTACH;FMTTYPE=image/jpeg:https://gckgrodek.pl/wp-content/uploads/2025/12/Plakat-duży_do_wypełenienia-Ministerstwo-—-kopia.jpg
END:VEVENT
END:VCALENDAR