BEGIN:VCALENDAR
VERSION:2.0
PRODID:-//Gminne Centrum Kultury w Gródku - ECPv4.9.5//NONSGML v1.0//EN
CALSCALE:GREGORIAN
METHOD:PUBLISH
X-WR-CALNAME:Gminne Centrum Kultury w Gródku
X-ORIGINAL-URL:https://gckgrodek.pl
X-WR-CALDESC:Events for Gminne Centrum Kultury w Gródku
BEGIN:VTIMEZONE
TZID:"Europe/Warsaw"
BEGIN:DAYLIGHT
TZOFFSETFROM:+0100
TZOFFSETTO:+0200
TZNAME:CEST
DTSTART:20230326T010000
END:DAYLIGHT
BEGIN:STANDARD
TZOFFSETFROM:+0200
TZOFFSETTO:+0100
TZNAME:CET
DTSTART:20231029T010000
END:STANDARD
END:VTIMEZONE
BEGIN:VEVENT
DTSTART;TZID="Europe/Warsaw":20231025T150000
DTEND;TZID="Europe/Warsaw":20231025T191500
DTSTAMP:20260420T112136
CREATED:20231011T074323Z
LAST-MODIFIED:20231011T074340Z
UID:17026-1698246000-1698261300@gckgrodek.pl
SUMMARY:HALLOWEENOWE WARSZTATY LEGO
DESCRIPTION:\nZapraszamy na kolejne warsztaty z Spice Gears Academy Podlaskie w naszym domu kultury !\n\n\nUwaga! GRÓDEK  Cukierek albo psikus!  Halloweenowe Warsztaty LEGO dla dzieci w wieku 4-12 lat!  Jeżeli chcesz\, aby Twoje dziecko spędziło atrakcyjnie czas\, świetnie się bawiąc\, będąc w swoim mieście\, to mamy dla Ciebie dobrą wiadomość! \n\n\nKiedy i gdzie?\n 25.10.2023\, godz. 15:00-17:00 WARSZTATY: STRASZNIE FAJNE BUDOWANIE ROBOTÓW — HALLOWEENOWE WARSZTATY LEGO ROBOTYCZNE (4-6 lat)\n 25.10.2023\, godz. 17:15-19:15 WARSZTATY: STRASZNIE FAJNE BUDOWANIE ROBOTÓW — HALLOWEENOWE WARSZTATY LEGO ROBOTYCZNE (7-12 lat)\n ul. A. i G. Chodkiewiczów 4\, Gródek (Gminne Centrum Kultury) https://www.facebook.com/grodekgck\n\n\nZarezerwuj swoje miejsce już dziś: https://sgapodlaskie.bookero.pl/\n\n\n Obowiązuje dress code: Najlepsze przebrania zgarniają wejściówki do kina Helios!\n\n\nŚwietna zabawa\, zajęcia wprowadzające w świat nauki\, tworzenie robotów edukacyjnych\, pobudzenie kreatywności\, malowanie twarzy na balonach\, masa atrakcji czy certyfikowani Edukatorzy to tylko niektóre z licznych argumentów\, dlaczego warto zapisać swoje dziecko na nasze warsztaty \nNa naszych zajęciach uczymy dzieci współpracy w grupie\, wzajemnego szacunku\, dyscypliny\, samodzielności i wielu innych aspektów przekładających się pozytywnie na każdą płaszczyznę życia \n\n\nKoszt warsztatów 2 godzinnych wynosi u nas 80 zł od osoby.\n\n
URL:https://gckgrodek.pl/wydarzenie/halloweenowe-warsztaty-lego/
LOCATION:Gminne Centrum Kultury Gródku\, ul. A. i G. Chodkiewiczów 4\, Gródek\, 16-040
CATEGORIES:Warsztaty
ATTACH;FMTTYPE=image/jpeg:https://gckgrodek.pl/wp-content/uploads/2023/10/Bez-nazwy-1-—-kopia.jpg
END:VEVENT
END:VCALENDAR