BEGIN:VCALENDAR
VERSION:2.0
PRODID:-//Gminne Centrum Kultury w Gródku - ECPv4.9.5//NONSGML v1.0//EN
CALSCALE:GREGORIAN
METHOD:PUBLISH
X-WR-CALNAME:Gminne Centrum Kultury w Gródku
X-ORIGINAL-URL:https://gckgrodek.pl
X-WR-CALDESC:Events for Gminne Centrum Kultury w Gródku
BEGIN:VTIMEZONE
TZID:"Europe/Warsaw"
BEGIN:DAYLIGHT
TZOFFSETFROM:+0100
TZOFFSETTO:+0200
TZNAME:CEST
DTSTART:20250330T010000
END:DAYLIGHT
BEGIN:STANDARD
TZOFFSETFROM:+0200
TZOFFSETTO:+0100
TZNAME:CET
DTSTART:20251026T010000
END:STANDARD
END:VTIMEZONE
BEGIN:VEVENT
DTSTART;TZID="Europe/Warsaw":20251111T113000
DTEND;TZID="Europe/Warsaw":20251111T130000
DTSTAMP:20260420T113009
CREATED:20251107T091655Z
LAST-MODIFIED:20251107T091655Z
UID:17751-1762860600-1762866000@gckgrodek.pl
SUMMARY:GMINNE OBCHODY ŚWIĘTA NIEPODLEGŁOŚCI
DESCRIPTION:godz. 11.30 – uroczysty przemarsz z placu szkolnego\, złożenie przez władze i delegacje kwiatów przy Pomniku Krzyża Grunwaldu i Pomniku Pamięci Poległym w parku;godz. 12.00 – wspólne odśpiewanie Hymnu Państwowego przy pomniku Grunwaldu;\ngodz. 12.45 – Program artystyczny w wykonaniu dzieci i młodzieży z Przedszkola Samorządowego\, Szkoły Podstawowej w Gródku\, Niepublicznej Szkoły w Załukach oraz grup działających przy GCK (sala widowiskowa);\nWydarzenie towarzyszące:Puchar Niepodległej – turniej unihokeja\, sala gimnastyczna SP w Gródku\, godz. 9.00 – organizator: Uczniowski Klub Sportowy Gródek\n
URL:https://gckgrodek.pl/wydarzenie/gminne-obchody-swieta-niepodleglosci-4/
LOCATION:Gminne Centrum Kultury Gródku\, ul. A. i G. Chodkiewiczów 4\, Gródek\, 16-040
CATEGORIES:Święta Państwowe
ATTACH;FMTTYPE=image/jpeg:https://gckgrodek.pl/wp-content/uploads/2025/11/plakat_11_listopada_25-—-kopia.jpg
ORGANIZER;CN="Gminne%20Centrum%20Kultury%20w%20Gr%C3%B3dku":MAILTO:biuro@gckgrodek.pl
END:VEVENT
END:VCALENDAR