BEGIN:VCALENDAR
VERSION:2.0
PRODID:-//Gminne Centrum Kultury w Gródku - ECPv4.9.5//NONSGML v1.0//EN
CALSCALE:GREGORIAN
METHOD:PUBLISH
X-WR-CALNAME:Gminne Centrum Kultury w Gródku
X-ORIGINAL-URL:https://gckgrodek.pl
X-WR-CALDESC:Events for Gminne Centrum Kultury w Gródku
BEGIN:VTIMEZONE
TZID:"Europe/Warsaw"
BEGIN:DAYLIGHT
TZOFFSETFROM:+0100
TZOFFSETTO:+0200
TZNAME:CEST
DTSTART:20240331T010000
END:DAYLIGHT
BEGIN:STANDARD
TZOFFSETFROM:+0200
TZOFFSETTO:+0100
TZNAME:CET
DTSTART:20241027T010000
END:STANDARD
END:VTIMEZONE
BEGIN:VEVENT
DTSTART;TZID="Europe/Warsaw":20241111T113000
DTEND;TZID="Europe/Warsaw":20241111T140000
DTSTAMP:20260420T113009
CREATED:20241023T130949Z
LAST-MODIFIED:20241023T130949Z
UID:17394-1731324600-1731333600@gckgrodek.pl
SUMMARY:GMINNE OBCHODY ŚWIĘTA NIEPODLEGŁOŚCI
DESCRIPTION:11 listopada (poniedziałek)\n\nProgram:\n\ngodz. 11.30 – Uroczysty przemarsz z placu szkolnego\, złożenie przez władze i delegacje kwiatów przy Pomniku Krzyża Grunwaldu i Pomniku Pamięci Poległym w parku;\ngodz. 12.00 – „Niepodległa do hymnu” – wspólne odśpiewanie Hymnu Państwowego przy pomniku Grunwaldu;\ngodz. 12.30 – Kiermasz smakołyków na rzecz Martyny Mytych organizator: OSP w Gródku (przed budynkiem GCK)\ngodz. 12.45 – Program artystyczny w wykonaniu dzieci i młodzieży z Przedszkola Samorządowego\, Szkoły Podstawowej w Gródku\, Niepublicznej Szkoły w Załukach oraz grup działających przy GCK; (sala widowiskowa);\n\n
URL:https://gckgrodek.pl/wydarzenie/gminne-obchody-swieta-niepodleglosci-3/
LOCATION:Gminne Centrum Kultury Gródku\, ul. A. i G. Chodkiewiczów 4\, Gródek\, 16-040
CATEGORIES:Święta Państwowe
ATTACH;FMTTYPE=image/jpeg:https://gckgrodek.pl/wp-content/uploads/2024/10/plakat_11_listopada_24-—-kopia.jpg
ORGANIZER;CN="Gminne%20Centrum%20Kultury%20w%20Gr%C3%B3dku":MAILTO:biuro@gckgrodek.pl
END:VEVENT
END:VCALENDAR